BEGIN:VCALENDAR
VERSION:2.0
PRODID:-//Patriot Guard Riders - ECPv5.3.2.1//NONSGML v1.0//EN
CALSCALE:GREGORIAN
METHOD:PUBLISH
X-WR-CALNAME:Patriot Guard Riders
X-ORIGINAL-URL:https://www.patriotguard.org
X-WR-CALDESC:Events for Patriot Guard Riders
BEGIN:VTIMEZONE
TZID:America/New_York
BEGIN:DAYLIGHT
TZOFFSETFROM:-0500
TZOFFSETTO:-0400
TZNAME:EDT
DTSTART:20130310T070000
END:DAYLIGHT
BEGIN:STANDARD
TZOFFSETFROM:-0400
TZOFFSETTO:-0500
TZNAME:EST
DTSTART:20131103T060000
END:STANDARD
END:VTIMEZONE
BEGIN:VEVENT
DTSTART;TZID=America/New_York:20131218T090000
DTEND;TZID=America/New_York:20131218T110000
DTSTAMP:20210404T105110
CREATED:20131218T140000Z
LAST-MODIFIED:20191201T134836Z
UID:404739-1387357200-1387364400@www.patriotguard.org
SUMMARY:Dale E. Handley\, 87\, USA\, WWII Veteran
DESCRIPTION:Confirmed Mission\nSSG Dale E. Handley\, 87\nLebanon\, Ohio\nUS Army \nVeteran of WWII\n\n\nVisitation:\nOswalt-Hoskins Funeral Home\n329 E. Mulberry St.\nLebanon\, OH  45036\n18 December 2013 @ 1700-1900hrs. (5-7PM)\nStaging: 18 December @ 1600hrs-( 4:00 PM ) \nService:\nOswalt-Hoskins Funeral Home\n329 E. Mulberry St.\nLebanon\, OH  45036\n19 December 2013 @ 1100hrs. (11AM)\nStaging: 19 December @ 1000hrs-( 10:00 AM ) \nInterment\nMiami Valley Memory Gardens\n1639 E. Lytle-5 Points Rd.\nCenterville\, OH  45458 \nAssistant State Captain Mike Hamilton is assigned this mission of Honor and Respect\, please follow his instructions. Remember your 3’x5′ American flags. Dress for the weather and be careful how you get safely to and from the mission.  If you need to contact Mike\, you may reach\nhim using the information below. \nMike Hamilton\nAsst. State Captain Ohio\n513-509-5815\nMayorham@cinci.rr.com
URL:https://www.patriotguard.org/mission/dale-e-handley-87-usa-wwii-veteran/
CATEGORIES:Archive
END:VEVENT
END:VCALENDAR