BEGIN:VCALENDAR
VERSION:2.0
PRODID:-//Patriot Guard Riders - ECPv5.3.2.1//NONSGML v1.0//EN
CALSCALE:GREGORIAN
METHOD:PUBLISH
X-WR-CALNAME:Patriot Guard Riders
X-ORIGINAL-URL:https://www.patriotguard.org
X-WR-CALDESC:Events for Patriot Guard Riders
BEGIN:VTIMEZONE
TZID:America/New_York
BEGIN:DAYLIGHT
TZOFFSETFROM:-0500
TZOFFSETTO:-0400
TZNAME:EDT
DTSTART:20190310T070000
END:DAYLIGHT
BEGIN:STANDARD
TZOFFSETFROM:-0400
TZOFFSETTO:-0500
TZNAME:EST
DTSTART:20191103T060000
END:STANDARD
END:VTIMEZONE
BEGIN:VEVENT
DTSTART;VALUE=DATE:20190726
DTEND;VALUE=DATE:20190727
DTSTAMP:20210403T205542
CREATED:20190719T214834Z
LAST-MODIFIED:20190719T214834Z
UID:168272-1564099200-1564185599@www.patriotguard.org
SUMMARY:Dale Christian Schwemm
DESCRIPTION:Honor Mission\nDale Christian Schwemm\nUSN –\nCecil Township\, Pennsylvania – 07-26-19\n\n\n\nABOUT THE MISSION: \nThe Patriot Guard Riders have been invited by the family of Dale Christian Schwemm\, U.S. Navy\, to stand in silent honor for his interment. Dale proudly served during the Vietnam Era from March 1956 to February 1960 with honor\, now its our turn to stand in honor for him.\n\n\nPRIMARY STAGING DETAILS: 07-26-19 \nStaging Time: 10:30 AM\n \nNational Cemetery Of The Alleghenies\nMemorial Walkway\, POW Circle\nCecil Township\, Pennsylvania 15017\nMap\n\n\nRide Captain: \nJim Shaw\njeshaw@comcast.net\n(412)217-5967\n\nKen Thompson\, Theanimalx@hotmail.com\, (724) 986-0502\n\n\nSpecial Instructions: \nFlag Line: 10:45 AM\nInterment with military honors at 11:00 AM\nMembers can attend all of a mission or any part of the mission. PGR sets no time for a member to stand a mission. We Thank you for whatever time you give us and the families of our heroes appreciate your time.\nPlease watch the weather\, dress accordingly and hydrate.\nRemember that the National Cemetery is a Federal Reservation and NO WEAPONS are permitted.\n\n\nFlags & Water:\nFlags will not be provided\nLarge Bike Flags will NOT be needed.\nWater WILL NOT be provided\, please bring your own.\n\n\n\nSubmitted By: Marcy Sorensen \nPosition: Pennsylvania Ride Captain \n\nNote: You do not have to own/ride a motorcycle or be a veteran to join\, and membership is Free. The only requirement is RESPECT! To subscribe to receive mission notices\, log into the National Site and click on the Members tab at the top. Select the Subscribe to PGR Missions option.\n Print This Page
URL:https://www.patriotguard.org/mission/dale-christian-schwemm/
CATEGORIES:Honor Mission
END:VEVENT
END:VCALENDAR