BEGIN:VCALENDAR
VERSION:2.0
PRODID:-//Patriot Guard Riders - ECPv5.3.2.1//NONSGML v1.0//EN
CALSCALE:GREGORIAN
METHOD:PUBLISH
X-WR-CALNAME:Patriot Guard Riders
X-ORIGINAL-URL:https://www.patriotguard.org
X-WR-CALDESC:Events for Patriot Guard Riders
BEGIN:VTIMEZONE
TZID:America/New_York
BEGIN:DAYLIGHT
TZOFFSETFROM:-0500
TZOFFSETTO:-0400
TZNAME:EDT
DTSTART:20170312T070000
END:DAYLIGHT
BEGIN:STANDARD
TZOFFSETFROM:-0400
TZOFFSETTO:-0500
TZNAME:EST
DTSTART:20171105T060000
END:STANDARD
END:VTIMEZONE
BEGIN:VEVENT
DTSTART;TZID=America/New_York:20170207T141500
DTEND;TZID=America/New_York:20170207T161500
DTSTAMP:20210405T222731
CREATED:20170207T191500Z
LAST-MODIFIED:20191201T030826Z
UID:312875-1486476900-1486484100@www.patriotguard.org
SUMMARY:Dale B Morton \, Veteran\, USN
DESCRIPTION:FN Dale B Morton\, Veteran \nUSN \nGrand Junction\, Colorado – 07 Feb 2017\n\n[HR][/HR]\nABOUT THE MISSION: \nNone \nPRIMARY STAGING DETAILS: 07 Feb 2017 \n \nPrimary Staging Time: 2:15 P.M.\n\nVeterans Memorial Cemetery (shelter area)\n2830 Riverside Parkway\n\nGrand Junction\, Colorado – 81501\n\n\n\n\n \nRide Captain:\n\nTim Himes \nArt (groady) Edwards \n\n\n\nSpecial Instructions:\n\nNone\n\n \nFlags & Water:\n\nFlags Will Be Provided\n\nLarge Bike Flags will NOT be needed.\n\nWater will be provided.\n\n\nSubmitted By: Arthur Edwards\nPosition: Assistant State Captain \n[HR][/HR]\nNote:\nYou do not have to own/ride a motorcycle or be a Veteran to join and membership is Free. The only requirement is RESPECT! To join\, simply go to Patriot Guard website and click on Register. Membership is Free. \nTo subscribe to receive mission notices\, log into the National Site and  click on the Mission Tab at the top. Select Upcoming Missions by State.  Scroll to the state(s) you would like to receive notices for and click  on the green check mark. Detailed instructions are also located in the  FAQs on the site by clicking on the Quick Links Tab and selecting FAQs.
URL:https://www.patriotguard.org/mission/dale-b-morton-veteran-usn/
LOCATION:Henry Lee Downs
END:VEVENT
END:VCALENDAR