BEGIN:VCALENDAR
VERSION:2.0
PRODID:-//Patriot Guard Riders - ECPv5.3.2.1//NONSGML v1.0//EN
CALSCALE:GREGORIAN
METHOD:PUBLISH
X-WR-CALNAME:Patriot Guard Riders
X-ORIGINAL-URL:https://www.patriotguard.org
X-WR-CALDESC:Events for Patriot Guard Riders
BEGIN:VTIMEZONE
TZID:America/New_York
BEGIN:DAYLIGHT
TZOFFSETFROM:-0500
TZOFFSETTO:-0400
TZNAME:EDT
DTSTART:20210314T070000
END:DAYLIGHT
BEGIN:STANDARD
TZOFFSETFROM:-0400
TZOFFSETTO:-0500
TZNAME:EST
DTSTART:20211107T060000
END:STANDARD
END:VTIMEZONE
BEGIN:VEVENT
DTSTART;VALUE=DATE:20210401
DTEND;VALUE=DATE:20210402
DTSTAMP:20210401T154053
CREATED:20210329T131140Z
LAST-MODIFIED:20210329T131140Z
UID:573194-1617235200-1617321599@www.patriotguard.org
SUMMARY:Dale Allen LaBrot
DESCRIPTION:Honor Mission\nDale Allen LaBrot\, Veteran\nUSMC\, USMCR –\nMULTI-STATE\, Missouri – 04-01-21\n\n\n\nABOUT THE MISSION: \nThe family of USMC Veteran PVT Dale Allen LaBrot (69) has requested the Patriot Guard Riders for the final mission of their loved one. Dale served his country from 1969 – 1975. He earned the National Defense Service Medal\, Rifle Marksman Badge and Good Conduct Medal. Dale worked in aircraft manufacturing at McDonnel Douglas and was a retired truck driver for Yellow Freight. He was a member of Festus VFW #3777.\n\n\nPRIMARY STAGING DETAILS: 04-01-21 \nStaging Time: 11:30 AM\n \nVinyard Funeral Home\n616 W Main St.\nFestus\, Missouri 63028\n\n\nRide Captain: \nCarl “Tilt” Harmon\nc0679h@gmail.com\n\n\nSpecial Instructions: \nStage at funeral home: 11:30 AM\nFlag line : 11:45 – 12:30 PM\nService : 12:30 PM\nImmediately following Service the PGR will escort to Jefferson Barracks National Cemetery (26 mi) for interment with full military honors.\nJB Time : 2:00 PM\nSupport: Al ” Big Al ” Hopson\nWeather: 52° Sunny Travel / Dress accordingly\nCages Welcome\n\n\nFlags & Water:\nFlags will be provided\nIf you have large bike flags\, please bring them.\nWater WILL NOT be provided\, please bring your own.\n\n\nSubmitted By: Dave Beck \nPosition: Missouri State Captain \n\nNote: You do not have to own/ride a motorcycle or be a veteran to join\, and membership is Free. The only requirement is RESPECT! To subscribe to receive mission notices\, log into the National Site and click on the Members tab at the top. Select the Subscribe to PGR Missions option.\n Print This Page
URL:https://www.patriotguard.org/mission/dale-allen-labrot/
CATEGORIES:Honor Mission
END:VEVENT
END:VCALENDAR