BEGIN:VCALENDAR
VERSION:2.0
PRODID:-//Patriot Guard Riders - ECPv5.3.2.1//NONSGML v1.0//EN
CALSCALE:GREGORIAN
METHOD:PUBLISH
X-WR-CALNAME:Patriot Guard Riders
X-ORIGINAL-URL:https://www.patriotguard.org
X-WR-CALDESC:Events for Patriot Guard Riders
BEGIN:VTIMEZONE
TZID:America/New_York
BEGIN:DAYLIGHT
TZOFFSETFROM:-0500
TZOFFSETTO:-0400
TZNAME:EDT
DTSTART:20190310T070000
END:DAYLIGHT
BEGIN:STANDARD
TZOFFSETFROM:-0400
TZOFFSETTO:-0500
TZNAME:EST
DTSTART:20191103T060000
END:STANDARD
END:VTIMEZONE
BEGIN:VEVENT
DTSTART;VALUE=DATE:20190606
DTEND;VALUE=DATE:20190607
DTSTAMP:20210405T001758
CREATED:20190602T151638Z
LAST-MODIFIED:20190602T151800Z
UID:163365-1559779200-1559865599@www.patriotguard.org
SUMMARY:D Day Hoth Mission
DESCRIPTION:HOTH Mission\nD Day Honor Mission\n–\nLouisville\, Kentucky – 06-06-19\n\n\n\n\nABOUT THE MISSION: \nWe have been invited to help honor our WWII Veterans at a D Day remembrance event.\n\n\nPRIMARY STAGING DETAILS: 06-06-19 \nStaging Time: 2:15 pm  \nWhite Castle parking lot\n1922 South 7th Street (7th and Algonquin)\nLouisville\, Kentucky 40214\n\n\nRide Captain: \nTom Baker (502) 271 8955\n\n\nSpecial Instructions: \nFurther information will be given at staging.\nPlease come hydrated and dressed for the weather.\nPlease bring water\, additional water will be available at the venue If needed.\n\nFlags & Water:\nFlags will be provided\nIf you have large bike flags\, please bring them.\nWater will be provided.\n\n\n\nSubmitted By: Thomas Baker \nPosition: Kentucky Ride Captain \n\nNote: You do not have to own/ride a motorcycle or be a veteran to join\, and membership is Free. The only requirement is RESPECT! To subscribe to receive mission notices\, log into the National Site and click on the Members tab at the top. Select the Subscribe to PGR Missions option.\n Print This Page
URL:https://www.patriotguard.org/mission/d-day-hoth-mission/
CATEGORIES:HOTH Mission
END:VEVENT
END:VCALENDAR