BEGIN:VCALENDAR
VERSION:2.0
PRODID:-//Patriot Guard Riders - ECPv5.6.0//NONSGML v1.0//EN
CALSCALE:GREGORIAN
METHOD:PUBLISH
X-WR-CALNAME:Patriot Guard Riders
X-ORIGINAL-URL:https://www.patriotguard.org
X-WR-CALDESC:Events for Patriot Guard Riders
BEGIN:VTIMEZONE
TZID:America/New_York
BEGIN:DAYLIGHT
TZOFFSETFROM:-0500
TZOFFSETTO:-0400
TZNAME:EDT
DTSTART:20160313T070000
END:DAYLIGHT
BEGIN:STANDARD
TZOFFSETFROM:-0400
TZOFFSETTO:-0500
TZNAME:EST
DTSTART:20161106T060000
END:STANDARD
END:VTIMEZONE
BEGIN:VEVENT
DTSTART;TZID=America/New_York:20160817T090000
DTEND;TZID=America/New_York:20160817T110000
DTSTAMP:20210512T015004
CREATED:20160817T130000Z
LAST-MODIFIED:20191201T143551Z
UID:409891-1471424400-1471431600@www.patriotguard.org
SUMMARY:CWO4 Stanley Floyd Palmer
DESCRIPTION:17 AUG 2016\nWednesday\nStanley Floyd Palmer\, CWO-W4 (Ret)\nUSAF\n1948-1970\nMontgomery\, AL\n\n\nFellow PGR Riders\, \nIt is with a heavy heart that I must inform you that America has lost another true American hero.  The family of CWO-W4 (Ret) Stanley Floyd Palmer have requested Patriot Guard Riders to stand in honor of their fallen hero at his memorial service.  His memorial will be held at Leak Memory Chapel starting @ 11:00 a.m. with family visitation beginning at 10:00.  Chief Palmer’s career included service in several overseas assignments during his career. \nIn addition to Chief Palmer’s own service\, he is survived by his widow Joyce\, who is herself a 20 year veteran of the Air Force and the Patriot Guard Riders’ presence will be treasured by her and her family. \nSTAGING INFO\nLOCATION:  Leak Memory Chapel\, 945 Lincoln Rd.\, Montgomery\, AL\nTIME:  09:45\nKSU:  N/A\nRCIC:  Mike “Corvet” Robinson\, 334-303-6019 \nWeather Forecast:  High of 92 degrees with a slight (20%) chance of precipitation.  Please properly hydrate before\, during and after this mission. \nChief Stanley Floyd Palmer stood for us many a hard day and night so that we might be safe and free.  Now it is our turn to stand for him.
URL:https://www.patriotguard.org/mission/cwo4-stanley-floyd-palmer/
CATEGORIES:Archive
END:VEVENT
END:VCALENDAR