BEGIN:VCALENDAR
VERSION:2.0
PRODID:-//Patriot Guard Riders - ECPv5.6.0//NONSGML v1.0//EN
CALSCALE:GREGORIAN
METHOD:PUBLISH
X-WR-CALNAME:Patriot Guard Riders
X-ORIGINAL-URL:https://www.patriotguard.org
X-WR-CALDESC:Events for Patriot Guard Riders
BEGIN:VTIMEZONE
TZID:America/New_York
BEGIN:DAYLIGHT
TZOFFSETFROM:-0500
TZOFFSETTO:-0400
TZNAME:EDT
DTSTART:20160313T070000
END:DAYLIGHT
BEGIN:STANDARD
TZOFFSETFROM:-0400
TZOFFSETTO:-0500
TZNAME:EST
DTSTART:20161106T060000
END:STANDARD
END:VTIMEZONE
BEGIN:VEVENT
DTSTART;TZID=America/New_York:20160720T090000
DTEND;TZID=America/New_York:20160720T110000
DTSTAMP:20210512T232559
CREATED:20160720T130000Z
LAST-MODIFIED:20191201T144223Z
UID:410493-1469005200-1469012400@www.patriotguard.org
SUMMARY:CW5 Carl W Shumpert\, 79\, USARNG(RET) / Lexington
DESCRIPTION:The family of CW5 Carl W Shumpert\, 79\, USARNG Retired\, request the Patriot Guard Riders escort and stand for their Hero\, which it will be our Honor to do so.\n\nCW5  Carl W Shumpert was born in Pelion SC and graduated from Pelion HS  Class of 1954\, after graduation he joined the USARNG where he served for  42 years. He received numerous awards and had the honor of being the  first Chief Warrant Officer to achieve the rank of CW5.\n\nServices will be 10:00 am Wednesday July 20\, 2016 at Red Bank UMC. Burial will be 12:00 noon at Fort Jackson National Cemetery. \n\nThis will be a two part Mission:\n\nMISSION DETAILS – WEDS\, 20 JULY 2016 \nPart 1 Flag Line:\n\nStaging Location:  \nRed Bank United Methodist Church\n2909 Old Barnwell Road\nLexington\, SC 29073\nMAP:  http://mapq.st/2a3hecP\n\nStaging: 0830 (8:30 AM)\n\nBriefing: 0900 (9:00 AM) \nPart One Execution:   Upon completion of briefing we will establish Flag Line until start of  service at 10:00 at which time we will break flag line down and await end  of service at which time we will establish Honor Line at hearse to  render Honors as CW5 Shumpert is placed in hearse.\n\nPart 2 Escort \nPart 2 Execution:  We will have the Honor to perform escort under LEO to Ft Jackson National Cemetery for a 12:00 Service.  If you are going straight to the cemetery\, please arrive to the Administrative building at 11:30  to meet the RC to proceed to the interment shelter together.  Flag line  will be formed to receive the procession and stay in place until  interment services are over.\n\nRCIC\,\nRon Kelly\, RCIT\n803-532-8933\nron.kelly83@yahoo.com
URL:https://www.patriotguard.org/mission/cw5-carl-w-shumpert-79-usarngret-lexington/
CATEGORIES:Archive
END:VEVENT
END:VCALENDAR