BEGIN:VCALENDAR
VERSION:2.0
PRODID:-//Patriot Guard Riders - ECPv5.6.0//NONSGML v1.0//EN
CALSCALE:GREGORIAN
METHOD:PUBLISH
X-WR-CALNAME:Patriot Guard Riders
X-ORIGINAL-URL:https://www.patriotguard.org
X-WR-CALDESC:Events for Patriot Guard Riders
BEGIN:VTIMEZONE
TZID:America/New_York
BEGIN:DAYLIGHT
TZOFFSETFROM:-0500
TZOFFSETTO:-0400
TZNAME:EDT
DTSTART:20160313T070000
END:DAYLIGHT
BEGIN:STANDARD
TZOFFSETFROM:-0400
TZOFFSETTO:-0500
TZNAME:EST
DTSTART:20161106T060000
END:STANDARD
END:VTIMEZONE
BEGIN:VEVENT
DTSTART;TZID=America/New_York:20160626T090000
DTEND;TZID=America/New_York:20160626T110000
DTSTAMP:20210512T135015
CREATED:20160626T130000Z
LAST-MODIFIED:20191201T144800Z
UID:411010-1466931600-1466938800@www.patriotguard.org
SUMMARY:CW4 Charles S. Sutton\, USA(RET)
DESCRIPTION:CW4 Charles S Sutton\nVietnam Army\nLeesville LA\, 06-26-2016\n\n\nThe Family of Mr. Charles S. Sutton has asked the PGR to stand in Honor of their Hero\, CW4 Sutton Served 39 years in the US Army and retired at the rank of Chief Warrent Officer Four. He is survived by his wife and 2 children\, six grandchildren. Bronze Star Medal\, Vietnam service ribbon\, southwest Asia service ribbon. \nPRIMARY STAGING INFO – 06-26-2016: \n  Location:\nLabby memorial funeral home\n601 S 4th St\nLeesville LA \n Staging Time:\n5:00 P.M. \n  Special Instructions:\nPost flags at 5:00 PM for viewing from\, 6:00 PM to 8:00 PM \nRCIC:\nRickey Wagoner – rickeyandkelly@yahoo.com \n  Assisting RCs: \n    Flags will be provided.\nLarge bike flags will NOT be needed. \nWeather: \nFeels like 101 \nStage Two INFO – 06-27-2016:\n  Location:\nLABBY\n601 S 4th St\nLeesville LA \n StagingTime:\n8:30 A.M. \n  Special Instructions:\nStage 0830 stand line 0900-1000\, escort to Central Louisiana Veterans Cemetery\, 3348 university Pkwy Leesville LA. About 4.5 miles. \nRCIC:\nRickey Wagoner – rickeyandkelly@yahoo.com \n  Assisting RCs: \n   Flags will be provided.\nLarge bike flags will be needed. \nWeather: \n92 feels like 100
URL:https://www.patriotguard.org/mission/cw4-charles-s-sutton-usaret/
CATEGORIES:Archive
END:VEVENT
END:VCALENDAR