BEGIN:VCALENDAR
VERSION:2.0
PRODID:-//Patriot Guard Riders - ECPv5.6.0//NONSGML v1.0//EN
CALSCALE:GREGORIAN
METHOD:PUBLISH
X-WR-CALNAME:Patriot Guard Riders
X-ORIGINAL-URL:https://www.patriotguard.org
X-WR-CALDESC:Events for Patriot Guard Riders
BEGIN:VTIMEZONE
TZID:America/New_York
BEGIN:DAYLIGHT
TZOFFSETFROM:-0500
TZOFFSETTO:-0400
TZNAME:EDT
DTSTART:20160313T070000
END:DAYLIGHT
BEGIN:STANDARD
TZOFFSETFROM:-0400
TZOFFSETTO:-0500
TZNAME:EST
DTSTART:20161106T060000
END:STANDARD
END:VTIMEZONE
BEGIN:VEVENT
DTSTART;TZID=America/New_York:20160708T090000
DTEND;TZID=America/New_York:20160708T110000
DTSTAMP:20210512T164657
CREATED:20160708T130000Z
LAST-MODIFIED:20191201T144627Z
UID:410867-1467968400-1467975600@www.patriotguard.org
SUMMARY:CSM Billy E. Prysock\, USA(RET)\, Vietnam / Huntsville
DESCRIPTION:CSM Billy E. Prysock (Ret.)\nU.S. Army Vietnam Korea\nRedstone Arsenal\, AL\n08 July 2016\n\n\n  \n\nAmerica and Alabama has lost another Hero\n\n\nThe family of Command Sergeant Major Prysock has asked the Patriot Guard to honor their loved one by standing a flag line at his memorial service. \n\nWe will be Honored to do so.\n \nCSM Prysock stood for us…Now is the time to Stand for Him\n\n\nCSM Prysock was in the U.S. Army in Vietnam\, 2 tours\, and served with distinction. \nDuring his career\, he trained and mentored more than 75 command sergeants major\, 18 staff sergeants major and 169 first sergeants. He retired after 35 years of service. \nMemorial Service: \nFriday 08 July 2016 14:00  (2pm) \nFamily arrives at 13:00 \nBicentennial Chapel\nRedstone Arsenal\, Al. \nStaging: 11:30 \nMetro Kiwanis Sportsplex\nJordan Ln. just north of Drake Ave.\nHuntsville\, Al. \nKSU: 11:45 \nRide in as a group to Gate 8 \nIf you plan to attend this mission on a motorcycle: \nOver the ankle boots\, full finger gloves\, longsleeve shirt\, riding glasses or face shield and of course\, no weapons. \nRCIC: Paul Neal   RC\n256-508-9172\nMoosen23@hotmail.com \nRCIC: Brian Ball   RC\n912-322-6877\nBball35148@yahoo.com
URL:https://www.patriotguard.org/mission/csm-billy-e-prysock-usaret-vietnam-huntsville/
CATEGORIES:Archive
END:VEVENT
END:VCALENDAR