BEGIN:VCALENDAR
VERSION:2.0
PRODID:-//Patriot Guard Riders - ECPv5.6.0//NONSGML v1.0//EN
CALSCALE:GREGORIAN
METHOD:PUBLISH
X-WR-CALNAME:Patriot Guard Riders
X-ORIGINAL-URL:https://www.patriotguard.org
X-WR-CALDESC:Events for Patriot Guard Riders
BEGIN:VTIMEZONE
TZID:America/New_York
BEGIN:DAYLIGHT
TZOFFSETFROM:-0500
TZOFFSETTO:-0400
TZNAME:EDT
DTSTART:20160313T070000
END:DAYLIGHT
BEGIN:STANDARD
TZOFFSETFROM:-0400
TZOFFSETTO:-0500
TZNAME:EST
DTSTART:20161106T060000
END:STANDARD
END:VTIMEZONE
BEGIN:VEVENT
DTSTART;TZID=America/New_York:20160613T090000
DTEND;TZID=America/New_York:20160613T110000
DTSTAMP:20210513T085221
CREATED:20160613T130000Z
LAST-MODIFIED:20191201T145212Z
UID:411388-1465808400-1465815600@www.patriotguard.org
SUMMARY:CSM Alfredo G. Herrera\, 83\, USA(RET)
DESCRIPTION:[FONT=&amp]CSM (Ret) Alfredo G. Herrera[/FONT][FONT=&amp]\,[/FONT][FONT=&amp] 83\, US Army\, Vietnam\, Portland\, OR [/FONT][FONT=&amp]-[/FONT][FONT=&amp] 13/JUN/16[/FONT][FONT=&amp] \nLadies and Gentlemen of the Patriot Guard Riders\, we have been requested to stand for [FONT=&amp]Command Sergeant Major (E-9) Alfredo G. Herrera[/FONT]\,  age 83. Al was born in Beatty\, Oregon\, to a family of 15. He attended  school in Beatty\, Bly\, and Klamath Falls\, OR\, where he graduated from  Klamath Union High School in 1951. Drafted into the U. S. Army in 1955\,  he was soon ordered to the Republic of South Korea for duty\, followed by  other overseas tours of duty in Izmir\, Turkey\, Vietnam\, and Thailand.  While serving his second combat tour in Vietnam\, Al was awarded the  Silver Star\, two Bronze Stars with Valor\, and the Purple Heart. He also  served with his beloved brothers from the 16th Infantry Regiment of the  1st Army Division\, the Bandido Charlies of Charlie Company.[/FONT][FONT=&amp]Following  his retirement\, he further served his country\, fellow service members\,  and the U. S. Army\, by participating as a member of the Military Order  of the Purple Heart (MOPH)\, an advisory board member for the Oregon  Department of Veterans Affairs\, and board member of the Bandido Charlie  Company Association. Please join us as we help support his family\, pay  our respects\, and honor his service to our nation. \n[FONT=&amp]Mission Date:[/FONT] Monday\, 13/JUN/16[/FONT]\n[FONT=&amp]Ride Captain: [/FONT][FONT=&amp]Jim Kruchoski jk4pgr@hotmail.com\n[/FONT][FONT=&amp]\n[/FONT][FONT=&amp]— FUNERAL SERVICE —[/FONT]\n[FONT=&amp]Staging Location:[/FONT][FONT=&amp] Lincoln Memorial Funeral Home – 11801 SE Mt Scott Blvd.\, Portland\, OR[/FONT] \n[FONT=&amp]Staging Time:[/FONT][FONT=&amp] 9:00 am\n[FONT=&amp]Briefing:[/FONT] 9:20 am\n[FONT=&amp]Flag line Set:[/FONT]  9:30 am\n[FONT=&amp]Service Begins:[/FONT] 10:00 am[/FONT] \n[FONT=&amp]***  Flag line will be dismissed at 10:05 am and those participating in the  Military Honors will proceed to the Rostrum at WNC. The RHG will stay to  escort the procession to the shelter.[/FONT] \n[FONT=&amp]\n— MILITARY HONORS —[/FONT] \n[FONT=&amp]Staging Location:[/FONT][FONT=&amp]  Willamette National Cemetery – 11800 SE Mt Scott Blvd.\, Portland\, OR –  up top at the Rostrum by the flagpole\, please enter the cemetery through  Gate 2 – across from Lincoln Memorial. \n[FONT=&amp]Staging Time:[/FONT] 10:00 am\n[FONT=&amp]Briefing:[/FONT] 10:20 pm\n[FONT=&amp]KSU:[/FONT] 10:30 am\n[FONT=&amp]Flag line Set:[/FONT]  10:45 am\n[FONT=&amp]Service Begins:[/FONT] 11:00 am[/FONT]
URL:https://www.patriotguard.org/mission/csm-alfredo-g-herrera-83-usaret/
CATEGORIES:Archive
END:VEVENT
END:VCALENDAR