BEGIN:VCALENDAR
VERSION:2.0
PRODID:-//Patriot Guard Riders - ECPv5.3.2.1//NONSGML v1.0//EN
CALSCALE:GREGORIAN
METHOD:PUBLISH
X-WR-CALNAME:Patriot Guard Riders
X-ORIGINAL-URL:https://www.patriotguard.org
X-WR-CALDESC:Events for Patriot Guard Riders
BEGIN:VTIMEZONE
TZID:America/New_York
BEGIN:DAYLIGHT
TZOFFSETFROM:-0500
TZOFFSETTO:-0400
TZNAME:EDT
DTSTART:20190310T070000
END:DAYLIGHT
BEGIN:STANDARD
TZOFFSETFROM:-0400
TZOFFSETTO:-0500
TZNAME:EST
DTSTART:20191103T060000
END:STANDARD
END:VTIMEZONE
BEGIN:VEVENT
DTSTART;VALUE=DATE:20190914
DTEND;VALUE=DATE:20190915
DTSTAMP:20210401T134018
CREATED:20190912T133443Z
LAST-MODIFIED:20190912T133620Z
UID:173626-1568419200-1568505599@www.patriotguard.org
SUMMARY:CS1 Regina Clark Bridge Dedication
DESCRIPTION:HOTH Mission\nCS1 Regina Clark Bridge Dedication\, KIA\nUSN\, Iraq\, WoT\nCentralia\, Washington – 09-14-19\n\n\n\nABOUT THE MISSION: \nLadies and Gentlemen of the Patriot Guard Riders\, we have been called upon to stand for CS1 Regina Clark (NMCB 18\, SEABEES) at a public memorial mission\, during which a bridge will be renamed and dedicated in her honor. CS1 Clark was assigned to a USMC combat unit in Fallujah in 2005 where she was the victim of a road-side bomb attack. We thank Regina for her selfless service and sacrifice and are proud to help honor her memory.\n\n\nPRIMARY STAGING DETAILS: 09-14-19 \nStaging Time: 11:20 am\n \nSchaefer Park\n822 WA-507\nCentralia\, Washington 98531\n\n\nRide Captain: \nBill Zehner\n402-212-7442\nwjzehner@gmail.com\n\n\n\n\nSpecial Instructions: \nSV: Judy “Gabby” Hagen\,\n\n11:30 AM Briefing\n11:40 AM KSU to Mission location\, set flag line\n12:00 PM Service begins/ fade away after military honors\n1:30 PM Debrief/Depart for mission 2\n\nNOTE 1: There will be a group ride from the Castle Rock Shell Station to the staging location for those interested\,\nKSU for Centralia will be 10:30 AM.\n\nNOTE 2: This is mission #1 of 2 this day. At the completion of the mission above\, we will have a group ride to the Indy Way Diner\, Longview\, WA where we will join the escort mission for the OR National Guard on their mobilization to Djibouti. Please join us if you are available!\n\n\nFlags & Water:\n\nFlags will be provided\nIf you have large bike flags\, please bring them.\nWater WILL NOT be provided\, please bring your own.\n\n\nSubmitted By: Chuck Lashley \nPosition: SW Washington District Captain \n\nNote: You do not have to own/ride a motorcycle or be a veteran to join\, and membership is Free. The only requirement is RESPECT! To subscribe to receive mission notices\, log into the National Site and click on the Members tab at the top. Select the Subscribe to PGR Missions option.\n Print This Page
URL:https://www.patriotguard.org/mission/cs1-regina-clark-bridge-dedication/
CATEGORIES:HOTH Mission
END:VEVENT
END:VCALENDAR