BEGIN:VCALENDAR
VERSION:2.0
PRODID:-//Patriot Guard Riders - ECPv5.3.2.1//NONSGML v1.0//EN
CALSCALE:GREGORIAN
METHOD:PUBLISH
X-WR-CALNAME:Patriot Guard Riders
X-ORIGINAL-URL:https://www.patriotguard.org
X-WR-CALDESC:Events for Patriot Guard Riders
BEGIN:VTIMEZONE
TZID:America/New_York
BEGIN:DAYLIGHT
TZOFFSETFROM:-0500
TZOFFSETTO:-0400
TZNAME:EDT
DTSTART:20160313T070000
END:DAYLIGHT
BEGIN:STANDARD
TZOFFSETFROM:-0400
TZOFFSETTO:-0500
TZNAME:EST
DTSTART:20161106T060000
END:STANDARD
END:VTIMEZONE
BEGIN:VEVENT
DTSTART;TZID=America/New_York:20161211T090000
DTEND;TZID=America/New_York:20161211T110000
DTSTAMP:20210405T221159
CREATED:20161211T140000Z
LAST-MODIFIED:20191201T140740Z
UID:407243-1481446800-1481454000@www.patriotguard.org
SUMMARY:Craig K Nalley\, USN
DESCRIPTION:Craig K Nalley\nU.S. Navy Seabee\nVietnam War Veteran\nBloomfield\, Iowa\nDecember 11\, 2016\n\n\n\n \n\n…standing for those who stood for us…\n\n\nThe family of  Craig K. Nalley has asked the Patriot Guard to show honor and respect for Craig who served in the U.S. Navy as a Seabee in Vietnam. \nRally Time: 12:30 PM. Sunday December 11\, 2016 \nBriefing: 12:45 PM. \nFlag Line: 1:00 PM. To 2:00 PM. \nRally point:\nWagler Funeral Home\n304 West Jefferson Street\nBloomfield\, Iowa\nhttps://goo.gl/maps/ZvfZEZkaNAT2 \nInterment: Pulaski Cemetery in Pulaski\, Iowa. \nRide Captain:\nTerry Mitchell\nharleydawgtp@iowatelecom.net\n641-780-0913
URL:https://www.patriotguard.org/mission/craig-k-nalley-usn/
CATEGORIES:Archive
END:VEVENT
END:VCALENDAR