BEGIN:VCALENDAR
VERSION:2.0
PRODID:-//Patriot Guard Riders - ECPv5.6.0//NONSGML v1.0//EN
CALSCALE:GREGORIAN
METHOD:PUBLISH
X-WR-CALNAME:Patriot Guard Riders
X-ORIGINAL-URL:https://www.patriotguard.org
X-WR-CALDESC:Events for Patriot Guard Riders
BEGIN:VTIMEZONE
TZID:America/New_York
BEGIN:DAYLIGHT
TZOFFSETFROM:-0500
TZOFFSETTO:-0400
TZNAME:EDT
DTSTART:20160313T070000
END:DAYLIGHT
BEGIN:STANDARD
TZOFFSETFROM:-0400
TZOFFSETTO:-0500
TZNAME:EST
DTSTART:20161106T060000
END:STANDARD
END:VTIMEZONE
BEGIN:VEVENT
DTSTART;TZID=America/New_York:20160603T090000
DTEND;TZID=America/New_York:20160603T110000
DTSTAMP:20210513T150030
CREATED:20160603T130000Z
LAST-MODIFIED:20191201T145809Z
UID:411924-1464944400-1464951600@www.patriotguard.org
SUMMARY:Craig Allen Stites\, Sr.
DESCRIPTION:The Patriot Guard Riders have been invited to stand in honor at the Interment Service for Craig Allen Stites\, Sr. at Fort Logan National Cemetery\, 3698 South Sheridan Blvd.\, Denver on Friday\, June 3\, 2016\, 1:15 PM\, Pavilion C.\n\nMr. Stites was born on January 19\, 1947 and died on May 12\, 2016 at the age of 69. He served in the United States Navy from 1964 until 1970. \n12:30 PM – Stage at the Fort Logan Visitors Center  \n12:45 PM – Mission Briefing\n  1:00 PM – Depart for Pavilion C to Form Flag Line \nWill an available Ride Captain please post. \nI will be honored to attend and will bring Flags. \n—\nJim Herstein\njwherst@aol.com
URL:https://www.patriotguard.org/mission/craig-allen-stites-sr/
CATEGORIES:Archive
END:VEVENT
END:VCALENDAR