BEGIN:VCALENDAR
VERSION:2.0
PRODID:-//Patriot Guard Riders - ECPv5.3.2.1//NONSGML v1.0//EN
CALSCALE:GREGORIAN
METHOD:PUBLISH
X-WR-CALNAME:Patriot Guard Riders
X-ORIGINAL-URL:https://www.patriotguard.org
X-WR-CALDESC:Events for Patriot Guard Riders
BEGIN:VTIMEZONE
TZID:America/New_York
BEGIN:DAYLIGHT
TZOFFSETFROM:-0500
TZOFFSETTO:-0400
TZNAME:EDT
DTSTART:20190310T070000
END:DAYLIGHT
BEGIN:STANDARD
TZOFFSETFROM:-0400
TZOFFSETTO:-0500
TZNAME:EST
DTSTART:20191103T060000
END:STANDARD
END:VTIMEZONE
BEGIN:VEVENT
DTSTART;VALUE=DATE:20190802
DTEND;VALUE=DATE:20190803
DTSTAMP:20210402T132748
CREATED:20190725T144209Z
LAST-MODIFIED:20190725T144209Z
UID:168767-1564704000-1564790399@www.patriotguard.org
SUMMARY:CR 44 Highway Dedication - PFC Derek Gibson
DESCRIPTION:Dedication\nCR 44 Highway Dedication – PFC Derek Gibson\, KIA\nUSA – WoT\nEustis\, Florida – 08-02-19\n\n\n \n\nABOUT THE MISSION: \nThe Lake County Board of Commissioners has graciously requested the Patriot Guard Riders’ presence for a Highway Dedication (County Road 44) in memory of PFC Derek Gibson. PFC Gibson was one of two Army soldiers killed by a roadside bomb in Baghdad on April 4\, 2007 when an improvised explosive devise (IED) hit their vehicle. PFC Gibson was a Eustis native.\nPlease bring your 3 X 5 American Flags and stand in honor and respect for this Hero.\n\n\nPRIMARY STAGING DETAILS: 08-02-19 \nStaging Time: 8:00 AM\n \nLake County Fairgrounds\nBuilding 2101 CR 452\nEustis\, Florida 32726\nMap\n\n\nRide Captain: \nRon “Lucky” Cleary\nronlaur71@embarqmail.com\n352-978-1441\n\n\nSpecial Instructions: \nPlease hydrate.\nAfter the dedication\, the PGR will Escort the family and friends on the road that was dedicated. Large Flag Bikes are requested.\n\nBrief :                8:15 AM\nFlag Line:        8:30 AM\nDedication:   10:00 AM\n\n\nFlags & Water:\nFlags will not be provided.\nIf you have large bike flags\, please bring them.\nWater WILL NOT be provided\, please bring your own. \n\n\n\nSubmitted By: Bernie Conner \nPosition: Florida Assistant State Captain \n\nNote: You do not have to own/ride a motorcycle or be a veteran to join\, and membership is Free. The only requirement is RESPECT! To subscribe to receive mission notices\, log into the National Site and click on the Members tab at the top. Select the Subscribe to PGR Missions option.\n Print This Page
URL:https://www.patriotguard.org/mission/cr-44-highway-dedication-pfc-derek-gibson/
CATEGORIES:Dedication
END:VEVENT
END:VCALENDAR