BEGIN:VCALENDAR
VERSION:2.0
PRODID:-//Patriot Guard Riders - ECPv5.3.2.1//NONSGML v1.0//EN
CALSCALE:GREGORIAN
METHOD:PUBLISH
X-WR-CALNAME:Patriot Guard Riders
X-ORIGINAL-URL:https://www.patriotguard.org
X-WR-CALDESC:Events for Patriot Guard Riders
BEGIN:VTIMEZONE
TZID:America/New_York
BEGIN:DAYLIGHT
TZOFFSETFROM:-0500
TZOFFSETTO:-0400
TZNAME:EDT
DTSTART:20140309T070000
END:DAYLIGHT
BEGIN:STANDARD
TZOFFSETFROM:-0400
TZOFFSETTO:-0500
TZNAME:EST
DTSTART:20141102T060000
END:STANDARD
END:VTIMEZONE
BEGIN:VEVENT
DTSTART;TZID=America/New_York:20140822T090000
DTEND;TZID=America/New_York:20140822T110000
DTSTAMP:20210401T233407
CREATED:20140822T130000Z
LAST-MODIFIED:20191201T132218Z
UID:400169-1408698000-1408705200@www.patriotguard.org
SUMMARY:CPT Norbert Peter Heib\, Jr.\, 75
DESCRIPTION:UPDATED – 18 AUG 14\n**************************************************************************************** \n\nNorbert Peter Heib Jr. 75\nUS Army\nLand O Lakes\, FL\nFriday\, 22 August 2014\n\n\nThe Patriot Guard Riders has been invited by the family of Norbert Peter Heib Jr.to stand in silent respect for their hero. \nCaptain Norbert Peter Heib Jr. retired from the US Army and US Public Health Service USPHS.  He loved spending time with his family\, traveling\, deep sea and fresh water fishing.   He volunteered at the VA nursing home in Pasco County and Hernando County Hospice and was a 4th degree Knights of Columbus. \nPlease bring your 3’x5’ American Flag to stand for this hero.\n\nPart I:  \nStaging:   0900 hrs.\nOur Lady of the Rosary Church\n2348 Collier Parkway\,\nLand O Lakes Florida 34639\nMap:   https://goo.gl/maps/Ft7Oe \nBriefing:  As directed by ride captain\nFlag Line Set:  As directed by ride captain\nService:  1000 hrs. \nMission Ride Captain:  Don “Red Ripper” Covey  Cell #:   (727) 207-5897\nEmail:  redripper22@yahoo.com \nRespectfully Submitted:\nThomas (T-Man) Brown                                                                                         \nFlorida Asst. State Captain\nthomasbrowncpi@gmail.com\n(727) 667-6029
URL:https://www.patriotguard.org/mission/cpt-norbert-peter-heib-jr-75/
CATEGORIES:Archive
END:VEVENT
END:VCALENDAR