BEGIN:VCALENDAR
VERSION:2.0
PRODID:-//Patriot Guard Riders - ECPv5.6.0//NONSGML v1.0//EN
CALSCALE:GREGORIAN
METHOD:PUBLISH
X-WR-CALNAME:Patriot Guard Riders
X-ORIGINAL-URL:https://www.patriotguard.org
X-WR-CALDESC:Events for Patriot Guard Riders
BEGIN:VTIMEZONE
TZID:America/New_York
BEGIN:DAYLIGHT
TZOFFSETFROM:-0500
TZOFFSETTO:-0400
TZNAME:EDT
DTSTART:20160313T070000
END:DAYLIGHT
BEGIN:STANDARD
TZOFFSETFROM:-0400
TZOFFSETTO:-0500
TZNAME:EST
DTSTART:20161106T060000
END:STANDARD
END:VTIMEZONE
BEGIN:VEVENT
DTSTART;TZID=America/New_York:20160628T090000
DTEND;TZID=America/New_York:20160628T110000
DTSTAMP:20210512T151451
CREATED:20160628T130000Z
LAST-MODIFIED:20191201T144813Z
UID:411029-1467104400-1467111600@www.patriotguard.org
SUMMARY:CPO Wesley Pearce\, USN(RET)
DESCRIPTION:Tues. 28 June 2016 \nPGR and friends\,\nWe have been asked to Silently stand flag line and Escort for Chief PO Wesley Pearce. \nChief PO Wesley Pearce served 20 + years in the Navy\, and also served in Vietnam. Mr. Wesley Pearce served on the USS Charles R. Ware\, where he welded the holes in the ship after being torpedoed. \nStaging:\nTuesday 28 June\n0845\nWendy’s in Swansboro\, NC\nMap: https://goo.gl/maps/nUBmVPdYdsG2 \n0900  KSU to ride over to Jones Funeral Home of Swansboro\n\nJones Funeral Home\n407 Old Hammock Rd\nSwansboro\, NC 28584\nMap: https://g.co/kgs/nPTDA3 \n0915  set flags\n0930  stand flag line\n1030  Service starts\n1040  stand down get ready for escort\n1045  Briefing for escort to Coastal Carolina State Veterans Cemetery\n1130  escort\n1200  Grave side with Military Honors \nPOC:\nCraig Bellile\npgr.develdog@gmail.com\n910-388-5943 \n**SPECIAL NOTE: Safety is of our utmost priority.  Every effort possible is made in planning and executing the PGR Mission statement in a manner that minimizes the inherit dangers of riding a motorcycle\, including riding in groups of all sizes and any situation.  While the NCPG\, and it’s riders have a remarkable safety record in the execution of our missions\, infrequently members have been injured in unforeseen accidents.  In an effort to mitigate the risk of preventable accidents\, all attendees who wish to ride in a Patriot Guard motorcycle escort or ride are asked to attend the pre-mission briefing.  It will include a safety briefing\, and any unique ride information known to our RCIC that may be specific to the mission.  Member safety and well-being is always a principal ongoing concern\, our RCIC’s are asked to stand-down from any mission that cannot be accomplished in relative safety or unreasonable risk.  This includes both rides and flag lines in inclement weather and conditions.  It remains each individual PGR member’s responsibility to ride within their own comfort zone and be cognizant of their surroundings and skill limitations as well as any physical needs or limitations.  If the ride and/or mission conditions present challenges beyond your skill\, comfort\, or needs you are expected to exercise good judgment in foregoing any planned participation.
URL:https://www.patriotguard.org/mission/cpo-wesley-pearce-usnret/
CATEGORIES:Archive
END:VEVENT
END:VCALENDAR