BEGIN:VCALENDAR
VERSION:2.0
PRODID:-//Patriot Guard Riders - ECPv5.6.0//NONSGML v1.0//EN
CALSCALE:GREGORIAN
METHOD:PUBLISH
X-WR-CALNAME:Patriot Guard Riders
X-ORIGINAL-URL:https://www.patriotguard.org
X-WR-CALDESC:Events for Patriot Guard Riders
BEGIN:VTIMEZONE
TZID:America/New_York
BEGIN:DAYLIGHT
TZOFFSETFROM:-0500
TZOFFSETTO:-0400
TZNAME:EDT
DTSTART:20160313T070000
END:DAYLIGHT
BEGIN:STANDARD
TZOFFSETFROM:-0400
TZOFFSETTO:-0500
TZNAME:EST
DTSTART:20161106T060000
END:STANDARD
END:VTIMEZONE
BEGIN:VEVENT
DTSTART;TZID=America/New_York:20160610T090000
DTEND;TZID=America/New_York:20160610T110000
DTSTAMP:20210513T155347
CREATED:20160610T130000Z
LAST-MODIFIED:20191201T145255Z
UID:411451-1465549200-1465556400@www.patriotguard.org
SUMMARY:CPO Michael W. Ledtke
DESCRIPTION:The family of Chief Petty Officer Michael W. Ledtke (Ret) has requested the Patriot Guard Riders stand for their loved one at his final formation\, as he once stood for us.  The PGR is honored as always to grant this request. \nCPO Ledtke served honorably as an Aviation Electrician’s Mate for almost 21 years with his final tour in Hawaii.  His awards include the Navy Commendation Medal 2nd award\, Navy Achievement Award 2nd award\, Presidential Unit Citation\, Joint Meritorious Unit Award\, Navy Unit Commendation 2nd award\, Meritorious Unit Commendation\, Navy ‘E’ Ribbon 5th award\, Navy Good Conduct Medal 5th award\, Navy Expeditionary Medal\, National Defense Service Medal\, Sea Service Deployment Ribbon 5th award\, and the United Nations Medal. \nObituary Link: \nMission Details:            Friday\, 10 June 2016\nThis will be a flag line only mission. We will stand up the flag line at 1345 (1:45 pm) for the arrival of the family and maintain it for the duration of the visitation.  Once the service begins (1500/3:00 pm) we will stand down and quietly leave. \nStaging Location:          Cannon Memorial Park Funerals & Cremations\n1150 North Main Street\nFountain Inn\, SC 29644 \nMap:                               https://goo.gl/maps/Em9kkr7sy1z \nAssemble:                      1315 (1:15 pm) \nBrief:                              1330 (1:30 pm) \nFlag line:                        1345 (1:45) \nCPO Ledtke gave a lot of his life to the service of OUR country – please join me in PAYING BACK just a little of the debt we\, the citizens of this country\, OWE HIM!! \n—\nRon Meece\n864.304.5058\nmeece@backroads.net
URL:https://www.patriotguard.org/mission/cpo-michael-w-ledtke/
CATEGORIES:Archive
END:VEVENT
END:VCALENDAR