BEGIN:VCALENDAR
VERSION:2.0
PRODID:-//Patriot Guard Riders - ECPv5.6.0//NONSGML v1.0//EN
CALSCALE:GREGORIAN
METHOD:PUBLISH
X-WR-CALNAME:Patriot Guard Riders
X-ORIGINAL-URL:https://www.patriotguard.org
X-WR-CALDESC:Events for Patriot Guard Riders
BEGIN:VTIMEZONE
TZID:America/New_York
BEGIN:DAYLIGHT
TZOFFSETFROM:-0500
TZOFFSETTO:-0400
TZNAME:EDT
DTSTART:20160313T070000
END:DAYLIGHT
BEGIN:STANDARD
TZOFFSETFROM:-0400
TZOFFSETTO:-0500
TZNAME:EST
DTSTART:20161106T060000
END:STANDARD
END:VTIMEZONE
BEGIN:VEVENT
DTSTART;TZID=America/New_York:20160627T090000
DTEND;TZID=America/New_York:20160627T110000
DTSTAMP:20210513T000807
CREATED:20160627T130000Z
LAST-MODIFIED:20191201T144816Z
UID:411032-1467018000-1467025200@www.patriotguard.org
SUMMARY:CPO Keith Edward DeRung\, 62\, USN(RET)\, Vietnam - GWOT
DESCRIPTION:US Navy Master Chief Petty Officer MMCS (SS) (Ret) Keith Edward DeRung – 62\nMillington\, Tennessee\nMonday 27 June 2016\n\n\n\nOur Country\, the Mid South and West Tennessee has lost another hero\, US Navy MCPO MMCS (SS) (ret) Keith Edward DeRung has passed away\, his family has requested the PATRIOT GUARD RIDERS pay tribute and honor him for his many years of honorable and distinguished service. \nMCPO MMCS (SS) DeRung proudly served in the US Navy for over 21 years with service during Vietnam and the Gulf Wars. He was a member of the US Navy Submarine Veterans\, Inc\, the US Navy Submarine Motorcycle Group and the Patriot Guard Riders. His many citations\, ribbons and medals include: The US Navy COMPANY COMMANDER RIBBON; GOOD CONDUCT MEDAL w/5 AWARDS; US NAVY SEA SERVICE DEPLOYMENT RIBBON w/3 BRONZE STARS; US NAVY MASTER TRAINING SPECIALIST INSIGNIA; US NAVY HUMANITARIAN SERVICE MEDAL; US NAVY ACHIEVEMENT MEDAL w/1 GOLD STAR; NATIONAL DEFENSE SERVICE MEDAL w/1 BRONZE STAR and the NAVY COMMENDATION MEDAL w/1 GOLD STAR. \nIt will indeed be an honor to stand for this hero and fellow PGR member. \nPRIMARY STAGING:  Monday 27 June 2016 at 1:30 PM at MUNFORD FUNERAL HOME; 7450 Raleigh-Millington Road; Millington\, TN 38053 the PGR will provide a silent US Flag line for visitation from 2:00 PM until the beginning of the funeral service at 4:00 PM. \nAt 5:00 PM at the funeral home\, the US Navy Submarine Veterans Group will provide full military honors. \nNOTE: There will be no escort with this Mission.\nPlease join with us as we proudly STAND FOR ONE WHO STOOD FOR US ! \nRC’s\nDonna Gregory\nSenior Ride Captain\n901.336.7406 \nJohnny Rivera\nAssistant State Captain\n901.488.7537
URL:https://www.patriotguard.org/mission/cpo-keith-edward-derung-62-usnret-vietnam-gwot/
CATEGORIES:Archive
END:VEVENT
END:VCALENDAR