BEGIN:VCALENDAR
VERSION:2.0
PRODID:-//Patriot Guard Riders - ECPv5.6.0//NONSGML v1.0//EN
CALSCALE:GREGORIAN
METHOD:PUBLISH
X-WR-CALNAME:Patriot Guard Riders
X-ORIGINAL-URL:https://www.patriotguard.org
X-WR-CALDESC:Events for Patriot Guard Riders
BEGIN:VTIMEZONE
TZID:America/New_York
BEGIN:DAYLIGHT
TZOFFSETFROM:-0500
TZOFFSETTO:-0400
TZNAME:EDT
DTSTART:20160313T070000
END:DAYLIGHT
BEGIN:STANDARD
TZOFFSETFROM:-0400
TZOFFSETTO:-0500
TZNAME:EST
DTSTART:20161106T060000
END:STANDARD
END:VTIMEZONE
BEGIN:VEVENT
DTSTART;TZID=America/New_York:20160712T090000
DTEND;TZID=America/New_York:20160712T110000
DTSTAMP:20210512T222856
CREATED:20160712T130000Z
LAST-MODIFIED:20191201T144411Z
UID:410660-1468314000-1468321200@www.patriotguard.org
SUMMARY:CPO Donald L. Talbert\, 78
DESCRIPTION:ADC Donald L. Talbert\, 78\nUSN RET.\nCanton\, GA\n12 July-16\n\n\nThe  family of CPO Talbert has requested that we stand for their Hero during  his service at the Georgia National Cemetery and it will be our honor  to do so. \nCPO  Talbert served as an Aviation Machinist’s Mate\, during his 30 years of  service.  He received several awards and medals\, among them the Navy  Achievement Medal and the Navy Unit Commendation and the National Defense Service Medal. \nThis will be a flag line only mission at the Georgia National Cemetery for the 11:30 service. \nStaging:\nJuly 12\, 2016\, NLT 10:45 AM at the GNC PIC building.\nGeorgia National Cemetery \n1080 Veterans Cemetery Rd\nCanton\, Georgia 30114 \nWeather forecast is for temp of 86 and no rain in morning.\nPlease post condolences on the National PGR Website. \nRCIC:\nClete Simpson\n770-364-6266\nCsimps15@comcast.net
URL:https://www.patriotguard.org/mission/cpo-donald-l-talbert-78/
CATEGORIES:Archive
END:VEVENT
END:VCALENDAR