BEGIN:VCALENDAR
VERSION:2.0
PRODID:-//Patriot Guard Riders - ECPv5.6.0//NONSGML v1.0//EN
CALSCALE:GREGORIAN
METHOD:PUBLISH
X-WR-CALNAME:Patriot Guard Riders
X-ORIGINAL-URL:https://www.patriotguard.org
X-WR-CALDESC:Events for Patriot Guard Riders
BEGIN:VTIMEZONE
TZID:America/New_York
BEGIN:DAYLIGHT
TZOFFSETFROM:-0500
TZOFFSETTO:-0400
TZNAME:EDT
DTSTART:20160313T070000
END:DAYLIGHT
BEGIN:STANDARD
TZOFFSETFROM:-0400
TZOFFSETTO:-0500
TZNAME:EST
DTSTART:20161106T060000
END:STANDARD
END:VTIMEZONE
BEGIN:VEVENT
DTSTART;TZID=America/New_York:20160621T090000
DTEND;TZID=America/New_York:20160621T110000
DTSTAMP:20210513T140113
CREATED:20160621T130000Z
LAST-MODIFIED:20191201T144938Z
UID:411158-1466499600-1466506800@www.patriotguard.org
SUMMARY:CPO Clyde Eugene Short
DESCRIPTION:The Patriot Guard Riders have been graciously invited by the family to stand in silent honor for ACC Clyde Eugene Short\, U.S. Navy Retired. He honorably and dutifully served his country from 1957 to 1979.\n\nA service with military honors will be held this Tuesday\, June 21st at 2 PM at Albert G. Horton Jr. Memorial Veterans Cemetery. \nMission Details:\nArrive: NLT 1300 (1:00 PM) at BP Truck Stop 2872 Pruden Blvd\, Suffolk\, VA 23434\nBrief: 1310 (1:10 PM)\nKSU: 1320 (1:20 PM) We will proceed to the Cemetery as a group and leave as a group.\n\nWe will establish a Flag Line and Stand Tall with Honor as Family and Guests arrive and during the Service as Military Honors are rendered. \nMission Duration approximately 1 – 2 Hours\n\nThis will be a flag line only – flags will be provided. There is no escort with this mission.  Please monitor the weather and dress and hydrate appropriately.\n\nAny questions or comments should be directed to the listed Ride Captain\n\nRide Captain: Rob “Papa Bear” Allen tfdirector3@gmail.com 757=802-1048\nCo Ride Captain: Tim “Mitch” Mitchell tim.mitchell3@verizon.net 757-408-1221\nRiCE: Open to all candidates\n\nThe weather is expected to be warm with a 20% chance of rain.  Dress accordingly and stay hydrated.\n\nSPECIAL NOTE: Safety is of our utmost priority\, Every effort possible in planning and executing the PGR MISSION Statement in a manner that minimizes the inherit dangers of riding a motorcycle\, including riding in groups of all sizes and any situation. While the PGR and its riders have a remarkable safety record in the execution of our missions\, infrequently members have been injured in unforeseen accidents. In an effort to mitigate the risk of preventable accidents\, all attendees who wish to ride in a Patriot Guard motorcycle escort or ride are asked to attend the pre-mission briefing. It will include a safety briefing and any unique ride information known to our RC that may be specific to the mission. Member safety and well- being is always a principal ongoing concern. Our RC’s are asked to stand down from any mission that cannot be accomplished in relative safety or unreasonable risk. This includes both rides and flag lines in inclement weather and conditions. It remains each individual PGR member’s responsibility to ride within their own comfort zone and be cognizant of their surroundings and skill limitations as well as any physical needs or limitations. If the ride and/or mission conditions present challenges beyond your skill\, comfort\, or needs you are expected to exercise good judgment in foregoing any planned participation.
URL:https://www.patriotguard.org/mission/cpo-clyde-eugene-short/
CATEGORIES:Archive
END:VEVENT
END:VCALENDAR