BEGIN:VCALENDAR
VERSION:2.0
PRODID:-//Patriot Guard Riders - ECPv5.6.0//NONSGML v1.0//EN
CALSCALE:GREGORIAN
METHOD:PUBLISH
X-WR-CALNAME:Patriot Guard Riders
X-ORIGINAL-URL:https://www.patriotguard.org
X-WR-CALDESC:Events for Patriot Guard Riders
BEGIN:VTIMEZONE
TZID:America/New_York
BEGIN:DAYLIGHT
TZOFFSETFROM:-0500
TZOFFSETTO:-0400
TZNAME:EDT
DTSTART:20160313T070000
END:DAYLIGHT
BEGIN:STANDARD
TZOFFSETFROM:-0400
TZOFFSETTO:-0500
TZNAME:EST
DTSTART:20161106T060000
END:STANDARD
END:VTIMEZONE
BEGIN:VEVENT
DTSTART;TZID=America/New_York:20160809T090000
DTEND;TZID=America/New_York:20160809T110000
DTSTAMP:20210512T030600
CREATED:20160809T130000Z
LAST-MODIFIED:20191201T143742Z
UID:410063-1470733200-1470740400@www.patriotguard.org
SUMMARY:CPO Charles Duane Forehand\, 86
DESCRIPTION:AMHC Charles Duane Forehand\, 86\nUnited States Air Navy\nPensacola\, Florida\nTuesday\, 9 Aug\, 2016\n\n\n\nThe  family of AMHC (E-7) Charles D. Forehand has invited the Patriot Guard  to escort him to Barrancas National Cemetery and stand a flag line for  final Honors.\n\nChief Forehand served 29 years and 10 months in the United States Navy and was a member of the American Legion and the Shriners.\n\nAll  arrangements are in the care of Faith Chapel South Funeral Home\, 100  Beverly Pkwy\, Pensacola Fl. \nThere will not be a flag line at the funeral home. \nThe PGR will stage at McDonald’s\, 2120 Fairfield Dr\,  Pensacola\, Fl. \nNote:  DOD regulations REQUIRE long sleeves\, long pants\, full fingered gloves\,  leather shoes/boots covering the ankles\, eye protection\, and DOT  approved helmets for all motorcycle operators and passengers while  riding on all US Military Installations.\n\nNote: For safety reasons\, all riders will attend the safety briefing. \nItinerary:\n0915 – Stage at McDonald’s\, 2120 Fairfield Dr. Pensacola Fl.\n1000 – Safety briefing\n1015 – KSU \n1030 – Arrive Faith Chapel South Funeral Home\n1100 – KSU for Barrancas w/LEO\n1145 – Honors at Barrancas \nIf you have any questions please contact the ride captain; \nRay Doyle\, CMSgt. (Ret) USAF\n[URL=”tel:850-902-0123″]850-902-0123[/URL]\nray.doyle@cox.net
URL:https://www.patriotguard.org/mission/cpo-charles-duane-forehand-86/
CATEGORIES:Archive
END:VEVENT
END:VCALENDAR