BEGIN:VCALENDAR
VERSION:2.0
PRODID:-//Patriot Guard Riders - ECPv5.6.0//NONSGML v1.0//EN
CALSCALE:GREGORIAN
METHOD:PUBLISH
X-WR-CALNAME:Patriot Guard Riders
X-ORIGINAL-URL:https://www.patriotguard.org
X-WR-CALDESC:Events for Patriot Guard Riders
BEGIN:VTIMEZONE
TZID:America/New_York
BEGIN:DAYLIGHT
TZOFFSETFROM:-0500
TZOFFSETTO:-0400
TZNAME:EDT
DTSTART:20160313T070000
END:DAYLIGHT
BEGIN:STANDARD
TZOFFSETFROM:-0400
TZOFFSETTO:-0500
TZNAME:EST
DTSTART:20161106T060000
END:STANDARD
END:VTIMEZONE
BEGIN:VEVENT
DTSTART;TZID=America/New_York:20160804T090000
DTEND;TZID=America/New_York:20160804T110000
DTSTAMP:20210511T193605
CREATED:20160804T130000Z
LAST-MODIFIED:20191201T143836Z
UID:410144-1470301200-1470308400@www.patriotguard.org
SUMMARY:CPO Bryan David Martin\, 56
DESCRIPTION:Patriot’s Name:  ACC Bryan David Martin\nMilitary Branch:  United States Navy\nClassification:  Retired From Military \nAdditional Military Info:\nAir Controlman CPO Martin retired from the Navy in November\, 1997 after 20 years of active service. Military Awards include: Navy Achievement Medal (2); Navy Commendation Medal (2); Navy Expeditionary Medal (3); Meritorious Unit Commendation; Good Conduct Medal (4); National Defense Service Medal; Armed Forces Expeditionary Medal (3); Sea Service Deployment Ribbon (4); Expert Pistol Shot Medal; Enlisted Warfare Specialist; Enlisted Aviation Warfare Specialist. \nLink To Obituary:\nhttp://www.turrentinejacksonmorrow.com/obituaries/bryan-david-martin \nMission Ride Captain:\nBill “Zippy-K” Kushnir\nbpkush@gte.net\n(214) 995-1536 \nMission Summary:\nThe family has asked the PGR to stand a flag line at the funeral service. \nPART 1:  Funeral Service\nMission Date:  Aug 04\, 2016 – Thursday\nStaging Time: 15:00\nBriefing Time: 15:15\nIn Position Time Or KSU: 15:30\nService Start Time: 16:00 \nDetails Of Part 1:\nRiders will stage at the funeral home to stand tall and silent as family and friends arrive for the service. After the service begins\, flags will be returned to the flag support vehicle. Riders will then be debriefed and dismissed. \nName Of Staging Point:\nTurrentine Jackson Morrow Funeral Home\n2525 Central Expressway North\nAllen\, Texas
URL:https://www.patriotguard.org/mission/cpo-bryan-david-martin-56/
CATEGORIES:Archive
END:VEVENT
END:VCALENDAR