BEGIN:VCALENDAR
VERSION:2.0
PRODID:-//Patriot Guard Riders - ECPv5.6.0//NONSGML v1.0//EN
CALSCALE:GREGORIAN
METHOD:PUBLISH
X-WR-CALNAME:Patriot Guard Riders
X-ORIGINAL-URL:https://www.patriotguard.org
X-WR-CALDESC:Events for Patriot Guard Riders
BEGIN:VTIMEZONE
TZID:America/New_York
BEGIN:DAYLIGHT
TZOFFSETFROM:-0500
TZOFFSETTO:-0400
TZNAME:EDT
DTSTART:20160313T070000
END:DAYLIGHT
BEGIN:STANDARD
TZOFFSETFROM:-0400
TZOFFSETTO:-0500
TZNAME:EST
DTSTART:20161106T060000
END:STANDARD
END:VTIMEZONE
BEGIN:VEVENT
DTSTART;TZID=America/New_York:20160711T090000
DTEND;TZID=America/New_York:20160711T110000
DTSTAMP:20210512T225712
CREATED:20160711T130000Z
LAST-MODIFIED:20191201T144432Z
UID:410690-1468227600-1468234800@www.patriotguard.org
SUMMARY:CPO Albert Ray Cooksey\, 88\, USN\, Korea
DESCRIPTION:CPO Albert Ray “Punk” Cooksey\, 88\nUS Navy Retired\nKorea/Vietnam Veteran\nAtkins\, AR\n11 July 2016\n\n\n\nAnother Arkansas Veteran\, CPO Albert Ray “Punk” Cooksey\, 88\, has finished his tour of duty here with us.  The family has requested the Patriot Guard Riders to see their Hero home to his final duty station with Honor\, Dignity and Respect. \nIt will be an honor for us to stand for this Hero who stood for our country and us during Korea and Vietnam. \nCPO Cooksey served twenty years as Gunner’s Mate in the Navy\, not only during Korea but also Vietnam. When he finished his service in the military\, this highly decorated sailor served his community for another two decades in the local school district. \nSTAGING:  0900 Hrs.\, 11 July 2016\nLemley Funeral Service  http://www.lemleyfuneral.com/\n1401 N. Church St.\nAtkins\, AR. \nBRIEFING:  0915 Hrs.  Must attend briefing in order to ride in escort. \nFLAG LINE:  0930 Hrs. Flag Line until the commencement of services. (Flags will be provided) \nRESPECT LINE: At conclusion of services \nESCORT:  To the Oakland Cemetery\, 968 Oakland Rd\, Atkins. Approximately 5 miles. \nBig Flags will be needed! \nWEATHER:  60% chance showers/thunderstorms\, high of 89. Cages welcome. \nRCIC:   David “Dirty Water” Cone  (479) 264-9525   dawaco@hughes.net
URL:https://www.patriotguard.org/mission/cpo-albert-ray-cooksey-88-usn-korea/
CATEGORIES:Archive
END:VEVENT
END:VCALENDAR