BEGIN:VCALENDAR
VERSION:2.0
PRODID:-//Patriot Guard Riders - ECPv5.6.0//NONSGML v1.0//EN
CALSCALE:GREGORIAN
METHOD:PUBLISH
X-WR-CALNAME:Patriot Guard Riders
X-ORIGINAL-URL:https://www.patriotguard.org
X-WR-CALDESC:Events for Patriot Guard Riders
BEGIN:VTIMEZONE
TZID:America/New_York
BEGIN:DAYLIGHT
TZOFFSETFROM:-0500
TZOFFSETTO:-0400
TZNAME:EDT
DTSTART:20160313T070000
END:DAYLIGHT
BEGIN:STANDARD
TZOFFSETFROM:-0400
TZOFFSETTO:-0500
TZNAME:EST
DTSTART:20161106T060000
END:STANDARD
END:VTIMEZONE
BEGIN:VEVENT
DTSTART;TZID=America/New_York:20160815T090000
DTEND;TZID=America/New_York:20160815T110000
DTSTAMP:20210512T020958
CREATED:20160815T130000Z
LAST-MODIFIED:20191201T143611Z
UID:409921-1471251600-1471258800@www.patriotguard.org
SUMMARY:Coy Delbert Rice\, 89\, USA\, WWII / Athens
DESCRIPTION:Mission to Honor \nCOY DELBERT RICE(89)\nUNITED STATES ARMY VETERAN\nMONDAY\, AUGUST 15\, 2016 \n[ATTACH=CONFIG]5018[/ATTACH] \n\n\nBorn: October 25\, 1926\nDeceased: August 11\, 2016 \nHis family has requested that the PGR attend his services.  The mission is a ‘go’ and all contacts have been made. Mr. Rice served as a Military Policeman during WWII\, from 19845 to 1947.  He received the Army Occupation Medal and the WWII Victory Medal. \nThis will be a 2-part mission for East Texas.\n\nPart 1\nFuneral services will be in Athens\, TX at 11:00 am at Fellowship Baptist Church. \nPart 2\nInterment will be in New Summerfield\, TX at McDonald Cemetery at 3:30 pm. \nPart 1\nChurch Service:  11:00 am Monday\, August 15th at Fellowship Church\, 2619 Texas Loop 7\, Athens\, Texas 75752. \nStaging:  at the church from 9:15 to 9:45 am with a riders meeting at 9:45.  Riders should be fueled up for the trip to New Summerfield after the church service. \nMap link staging area:https://goo.gl/maps/a6dDP9yjAWT2 \nPart 2\nStaging: McDonald Cemetery\, Hwy 110 South at County Road 4303\, New Summerfield\, Texas from 2:15 to 2:30 pm with a riders meeting at 2:30. \nMap link staging area:  https://goo.gl/maps/Gm6tGyLzLfs \nAll new members are requested to sign a PGR Release of Liability prior to Flag Line.  Please remain flexible as to the requirements of the mission (SEMPER GUMBY).   \nPart 1\nRide Captain:  Brad Hayes\nPhone:  [URL=”tel:903-520-2409″]903-520-2409[/URL]\nEmail Address:  brad.hayes68@yahoo.com  \nFlag Captain:  Linda Hayes\nPhone:  [URL=”tel:903-520-2710″]903-520-2710[/URL]\nEmail Address:  lhayes1824@aol.com \nPart 2\nRide Captain:  Bill Parrish\nPhone: [URL=”tel:903-926-1962″]903-926-1962[/URL]\nEmail Address: bparrish4x4@gmail.com \nFlag Captain:  Bill Parrish\nPhone:  [URL=”tel:903-926-1962″]903-926-1962[/URL]\nEmail Address: bparrish4x4@gmail.com \nWeather Report: high will be close to 84 so please hydrate often\, including the night before. Chance of rain 60%\, so in case of bad weather\, please come in the cage.   \nALL GROUPS\, CLUBS\, INDEPENDENTS\, ETC. ARE WELCOME.  The only prerequisite is RESPECT.  Also remember\, you do not have to ride a motorcycle to join in.  The flag line is open to all who wish to participate.    \nStand tall and silent as you honor this fallen veteran and his family.  Please ride/drive safely and defensively.
URL:https://www.patriotguard.org/mission/coy-delbert-rice-89-usa-wwii-athens/
CATEGORIES:Archive
END:VEVENT
END:VCALENDAR