BEGIN:VCALENDAR
VERSION:2.0
PRODID:-//Patriot Guard Riders - ECPv5.6.0//NONSGML v1.0//EN
CALSCALE:GREGORIAN
METHOD:PUBLISH
X-WR-CALNAME:Patriot Guard Riders
X-ORIGINAL-URL:https://www.patriotguard.org
X-WR-CALDESC:Events for Patriot Guard Riders
BEGIN:VTIMEZONE
TZID:America/New_York
BEGIN:DAYLIGHT
TZOFFSETFROM:-0500
TZOFFSETTO:-0400
TZNAME:EDT
DTSTART:20160313T070000
END:DAYLIGHT
BEGIN:STANDARD
TZOFFSETFROM:-0400
TZOFFSETTO:-0500
TZNAME:EST
DTSTART:20161106T060000
END:STANDARD
END:VTIMEZONE
BEGIN:VEVENT
DTSTART;TZID=America/New_York:20160706T090000
DTEND;TZID=America/New_York:20160706T110000
DTSTAMP:20210512T155528
CREATED:20160706T130000Z
LAST-MODIFIED:20191201T144548Z
UID:410811-1467795600-1467802800@www.patriotguard.org
SUMMARY:Cory Dean Burke\, USA\, GWOT / Owasso\, OK
DESCRIPTION:The family of U.S. Army GWOT Veteran PFC Cory Dean Burke has asked the PGR to stand a flag line at his services to be held on 6 July 2016 at Owasso\, OK. \nServices will be held at Mowery Funeral Service Chapel\, 9110 N Garnett\, Owasso\, OK at 11:00 AM. \nInterment will follow at IOOF cemetery in Bentonville\, AR at 3:00 PM\n\nDate:  Wednesday 6 July 2016 \nStaging:  9:45 AM\nQuik Trip\n96th St N & Garnett\nOwasso\, OK \nMandatory Briefing:  10:00 AM  Riders must attend Briefing if riding in escort!!!!! \nKSU:  10:15 AM\nThe  riders will move to the funeral home and establish a Flag/Respect Line  for incoming family and guests. \nFollowing the services\, riders will  escort PFC Burke\, family\, and friends to the IOOF cemetery in  Bentonville\, AR for interment.\n\nWeather:  Partly cloudy\, High 93\, low 78.  Please dress accordingly and HYDRATE! HYDRATE1 HYDRATE! \nRCIC:\nTommy ‘Dragman’ Johnson\nTommydj@sbcglobal.net\n(918) 520-5310
URL:https://www.patriotguard.org/mission/cory-dean-burke-usa-gwot-owasso-ok/
CATEGORIES:Archive
END:VEVENT
END:VCALENDAR