BEGIN:VCALENDAR
VERSION:2.0
PRODID:-//Patriot Guard Riders - ECPv5.3.2.1//NONSGML v1.0//EN
CALSCALE:GREGORIAN
METHOD:PUBLISH
X-WR-CALNAME:Patriot Guard Riders
X-ORIGINAL-URL:https://www.patriotguard.org
X-WR-CALDESC:Events for Patriot Guard Riders
BEGIN:VTIMEZONE
TZID:America/New_York
BEGIN:DAYLIGHT
TZOFFSETFROM:-0500
TZOFFSETTO:-0400
TZNAME:EDT
DTSTART:20190310T070000
END:DAYLIGHT
BEGIN:STANDARD
TZOFFSETFROM:-0400
TZOFFSETTO:-0500
TZNAME:EST
DTSTART:20191103T060000
END:STANDARD
END:VTIMEZONE
BEGIN:VEVENT
DTSTART;VALUE=DATE:20190412
DTEND;VALUE=DATE:20190413
DTSTAMP:20210404T091453
CREATED:20190411T052643Z
LAST-MODIFIED:20190411T052643Z
UID:156980-1555027200-1555113599@www.patriotguard.org
SUMMARY:Coral Royce Collette
DESCRIPTION:Honor Mission\nCoral Royce Collette\, Veteran\nUSA – WWII\nMULTI-CITY\, California – 04-12-19\n\n\n\nABOUT THE MISSION: \nCoral Royce Collette was born in Kirk\, Colorado in December of 1927. His military service began in September 1946 at Lowry Field Colorado. After his 4 months of training his MOS was Truck Driver Lt. 345. Shortly after his training\, PFC Collette was shipped off to Japan and was the driver for the top brass for 11 months\, 24 days. The medals and awards are WWII Victory Medal and Army of Occupation of Japan and qualified on the MKM M1 Rifle 147.\n\n\nPRIMARY STAGING DETAILS: 04-12-19 \nStaging Time: 11:30 AM\n \nChurch of the Nazarene\n19016 Highline Rd.\nTehachapi\, California 93561\nMap\n\n\nRide Captain: \nJim “Kickstand” Jacobs\njj33503@comcast.net\n\n\nSpecial Instructions: \nMemorial service will be in progress so please enter staging location as quietly as possible.\nIf you bring large bike flags\, please ensure they are capable of safely operating at freeway speeds.\nBrief Time: 11:45.\nHonor Line from Church: 12:00.\nKSU to Hillcrest Memorial Park: 12:30.\n\n\nFlags & Water:\nFlags will not be provided\nIf you have large bike flags\, please bring them.\nWater WILL NOT be provided\, please bring your own.\n\nSTAGING #2 DETAILS: 04-12-19 \nStaging Time: 1:00 PM\n \nHillcrest Memorial Park\n9101 Kern Canyon Rd.\nBakersfield\, California 93306\nMap\n\n\nRide Captain: \nJim “Kickstand” Jacobs\njj33503@comcast.net\n\n\nSpecial Instructions: \nProcession will be arriving from Tehachapi at approximately 1:00 PM.\nService and Military Honors at grave site at 1:30 PM.\n\n\nFlags & Water:\nFlags will not be provided\nLarge Bike Flags will NOT be needed.\nWater WILL NOT be provided\, please bring your own.\n\n\n\nSubmitted By: Robert Firestine \nPosition: California Assistant State Captain \n\nNote: You do not have to own/ride a motorcycle or be a veteran to join\, and membership is Free. The only requirement is RESPECT! To subscribe to receive mission notices\, log into the National Site and click on the Members tab at the top. Select the Subscribe to PGR Missions option.\n Print This Page
URL:https://www.patriotguard.org/mission/coral-royce-collette/
CATEGORIES:Honor Mission
END:VEVENT
END:VCALENDAR