BEGIN:VCALENDAR
VERSION:2.0
PRODID:-//Patriot Guard Riders - ECPv5.6.0//NONSGML v1.0//EN
CALSCALE:GREGORIAN
METHOD:PUBLISH
X-WR-CALNAME:Patriot Guard Riders
X-ORIGINAL-URL:https://www.patriotguard.org
X-WR-CALDESC:Events for Patriot Guard Riders
BEGIN:VTIMEZONE
TZID:America/New_York
BEGIN:DAYLIGHT
TZOFFSETFROM:-0500
TZOFFSETTO:-0400
TZNAME:EDT
DTSTART:20210314T070000
END:DAYLIGHT
BEGIN:STANDARD
TZOFFSETFROM:-0400
TZOFFSETTO:-0500
TZNAME:EST
DTSTART:20211107T060000
END:STANDARD
END:VTIMEZONE
BEGIN:VEVENT
DTSTART;VALUE=DATE:20210530
DTEND;VALUE=DATE:20210531
DTSTAMP:20210511T124115
CREATED:20210509T131958Z
LAST-MODIFIED:20210509T134340Z
UID:576868-1622332800-1622419199@www.patriotguard.org
SUMMARY:The Last Full Measure  Copy
DESCRIPTION:  \n\nHOTH Mission\nThe Last Full Measure\n\nLakeland\, Florida  05-30-21\n\n\n\nABOUT THE MISSION: \nThe Patriot Guard Riders are once again invited to attend “The Last Full Measure” (formally Remembering Heroes – Then and Now Ceremony). This is their 15th annual Memorial Day Ceremony to Honor our Fallen Brothers and Sisters.\n\nThis year\, U.S. Army Green Beret\, MSGT Shawn Simmons will be Honored\, as he was KIA\, June 29\, 2008 in Afghanistan.\n\nKeynote speaker will be U.S. Marine & Desert Storm Veteran Kevin Youngblood.\n\nPlease bring your 3 X 5 American flags and join us as we stand in silent honor and respect for our fallen hero\, his family and a community that suffer from the loss.\n\nNote: The PGR is invited to attend the service with reserved seating provided. At Flag Line stand-down\, please consider attending this heart-warming ceremony.\n\n\nPRIMARY STAGING DETAILS: 05-30-21 \nStaging Time: 9:45 AM  \nCalvary Baptist Church\n1945 N. Florida Ave.\nLakeland\, Florida 33805\n\n\nRide Captain: \nDave “Old Salt” Olmstead\nretusn1991@gmail.com\n863-344-9283\n\n\nSpecial Instructions: \n10:00 AM – Brief\n10:45 AM – Service\nFlag Line – As determined by Ride Captain\n\nCOVID 19 protocol will be observed\n\nMap: https://rb.gy/ye5wln\n\n\nFlags & Water:\nFlags will not be provided\nLarge Bike Flags will NOT be needed.\nWater WILL NOT be provided\, please bring your own.\n  \n\n\n\nSubmitted By: David Shelton \nPosition: Florida State Captain \n\nNote: You do not have to own/ride a motorcycle or be a veteran to join\, and membership is Free. The only requirement is RESPECT! To subscribe to receive mission notices\, log into the National Site and click on the Members tab at the top. Select the Subscribe to PGR Missions option.\n Print This Page
URL:https://www.patriotguard.org/mission/copy/
CATEGORIES:HOTH Mission
END:VEVENT
END:VCALENDAR