BEGIN:VCALENDAR
VERSION:2.0
PRODID:-//Patriot Guard Riders - ECPv5.3.2.1//NONSGML v1.0//EN
CALSCALE:GREGORIAN
METHOD:PUBLISH
X-WR-CALNAME:Patriot Guard Riders
X-ORIGINAL-URL:https://www.patriotguard.org
X-WR-CALDESC:Events for Patriot Guard Riders
BEGIN:VTIMEZONE
TZID:America/New_York
BEGIN:DAYLIGHT
TZOFFSETFROM:-0500
TZOFFSETTO:-0400
TZNAME:EDT
DTSTART:20170312T070000
END:DAYLIGHT
BEGIN:STANDARD
TZOFFSETFROM:-0400
TZOFFSETTO:-0500
TZNAME:EST
DTSTART:20171105T060000
END:STANDARD
END:VTIMEZONE
BEGIN:VEVENT
DTSTART;TZID=America/New_York:20170923T150000
DTEND;TZID=America/New_York:20170923T170000
DTSTAMP:20210404T161117
CREATED:20170923T190000Z
LAST-MODIFIED:20191201T035157Z
UID:346797-1506178800-1506186000@www.patriotguard.org
SUMMARY:Cookout at Dame La Mano
DESCRIPTION:Cookout at Dame La Mano\n\nEl Paso\, Texas – 23 Sep 2017\n\n\n[HR][/HR]\nABOUT THE MISSION: \n\nA Chicano’s Pride CMC CC is sponsoring  their annual cookout and delivery of donations to Dame La Mano Crisis  Pregnancy Center. Dame La Mano was established on 19 Sept 1999 assisting  the community with pregnant women in crisis (victims of domestic  violence). Delivering full programs offered such as; housing\, prenatal  care\, education\, and professional counseling. For additional information  regarding Dame La Mano and the assistance they provide\, visit them at https://www.facebook.com/dame.lamano.1\n\n\nPRIMARY STAGING DETAILS:  23 Sep 2017\nPrimary Staging Time: 1200 P.M. \n\nRod’s Sports Bar\n3900 Pershing Dr\nEl Paso\, Texas – 79905\n\n\nRide Captain: \n\nVaughn “Jump Start” Nelson\nnelsonv7769@yahoo.com\n(915) 667-9992\n\n\nSpecial Instructions: \n\nChicano’s  Pride MC has invited the Patriot Guard Riders to join in a  ride from Rod’s Sports Bar 3900 Pershing El Paso\, TX 79905 to 1014 S.  Virginia El Paso\, TX 79901 \nStaging: 1200 hrs.\nBriefing: 1215 hrs.\nKSU:       1230 hrs\n\n\nFlags & Water: \n\nFlags Will Be Provided\nIf you have large bike flags\, please bring them.\nWater will be provided.\n\n\nSubmitted By: Vaughn Nelson\nPosition: Ride Captain\n[HR][/HR]Note:\nYou do not have to own/ride a motorcycle or be a Veteran to join and membership is Free. The only requirement is RESPECT! To join\, simply go to www.PatriotGuard.org and click on Register. Membership is Free. \nTo subscribe to receive mission notices\, log into the National Site and click on the Mission Tab at the top. Select the Subscribe to Missions option.
URL:https://www.patriotguard.org/mission/cookout-at-dame-la-mano/
END:VEVENT
END:VCALENDAR