BEGIN:VCALENDAR
VERSION:2.0
PRODID:-//Patriot Guard Riders - ECPv5.3.2.1//NONSGML v1.0//EN
CALSCALE:GREGORIAN
METHOD:PUBLISH
X-WR-CALNAME:Patriot Guard Riders
X-ORIGINAL-URL:https://www.patriotguard.org
X-WR-CALDESC:Events for Patriot Guard Riders
BEGIN:VTIMEZONE
TZID:America/New_York
BEGIN:DAYLIGHT
TZOFFSETFROM:-0500
TZOFFSETTO:-0400
TZNAME:EDT
DTSTART:20170312T070000
END:DAYLIGHT
BEGIN:STANDARD
TZOFFSETFROM:-0400
TZOFFSETTO:-0500
TZNAME:EST
DTSTART:20171105T060000
END:STANDARD
END:VTIMEZONE
BEGIN:VEVENT
DTSTART;TZID=America/New_York:20170216T084500
DTEND;TZID=America/New_York:20170216T104500
DTSTAMP:20210401T230529
CREATED:20170216T134500Z
LAST-MODIFIED:20191201T034745Z
UID:344198-1487234700-1487241900@www.patriotguard.org
SUMMARY:Connie Owens \, Retired\, USN - Korea
DESCRIPTION:Connie Owens\, Retired \nUSN – Korea \nLEXINGTON\, South Carolina – 16 Feb 2017\n\n[HR][/HR]\nABOUT THE MISSION: \nMr. Owens served in the United States Navy for 20 1/2 years\, obtaining the rank of CPO. He was a Korean War Veteran. He leaves behind his wife\, a son\, 8 grandchildren\, 2 great grandchildren and 2 half-sisters. He enjoyed bowling\, walking and the gamecocks. He was a Quilt of Valor recipient. \nArrangements are being handled by Thompson Funeral Home \nPRIMARY STAGING DETAILS: 16 Feb 2017 \n \nPrimary Staging Time: 8:45 A.M.\n\nBriefing: 8:45 A.M. \nFlag line: 9:00 A.M. \nThompson Funeral Home\,\n4720 Augusta Road\n\nLEXINGTON\, South Carolina – 29073\n\nMAP: https://goo.gl/maps/c9dAktZNbtA2\n\n \n \nRide Captain:\n\nRON KELLY\n803-532-8933\nron.kelly83@yahoo.com\nronkelly614@gmail\,com\n\n \n \nSpecial Instructions:\n\nWe will stand a flag line from 9:00 am until service begins at 10:00 am. When the service concludes we will render honors and prepare for escort. Upon conclusion of the service riders will escort funeral procession to FJNC for an 11:00 am interment service. \nThose going directly to Fort Jackson National Cemetery\n(MAP: https://goo.gl/maps/YG5n3p411qw) arrive NLT than 1030 am at admin building and follow instructions of RCIC.\n\n \n \nFlags & Water:\n\nFlags Will Be Provided\n\nIf you have large bike flags\, please bring them.\n\nWater will be provided.\n\nSubmitted By: L.Z. Harrison\, Jr.\nPosition: State Captain \n[HR][/HR]\nNote:\nYou do not have to own/ride a motorcycle or be a Veteran to join and membership is Free. The only requirement is RESPECT! To join\, simply go to Patriot Guard website and click on Register. Membership is Free. \nTo subscribe to receive mission notices\, log into the National Site and click on the Mission Tab at the top. Select Upcoming Missions by State. Scroll to the state(s) you would like to receive notices for and click on the green check mark. Detailed instructions are also located in the FAQs on the site by clicking on the Quick Links Tab and selecting FAQs.
URL:https://www.patriotguard.org/mission/connie-owens-retired-usn-korea/
END:VEVENT
END:VCALENDAR