BEGIN:VCALENDAR
VERSION:2.0
PRODID:-//Patriot Guard Riders - ECPv5.3.2.1//NONSGML v1.0//EN
CALSCALE:GREGORIAN
METHOD:PUBLISH
X-WR-CALNAME:Patriot Guard Riders
X-ORIGINAL-URL:https://www.patriotguard.org
X-WR-CALDESC:Events for Patriot Guard Riders
BEGIN:VTIMEZONE
TZID:America/New_York
BEGIN:DAYLIGHT
TZOFFSETFROM:-0500
TZOFFSETTO:-0400
TZNAME:EDT
DTSTART:20110313T070000
END:DAYLIGHT
BEGIN:STANDARD
TZOFFSETFROM:-0400
TZOFFSETTO:-0500
TZNAME:EST
DTSTART:20111106T060000
END:STANDARD
END:VTIMEZONE
BEGIN:VEVENT
DTSTART;TZID=America/New_York:20110809T090000
DTEND;TZID=America/New_York:20110809T110000
DTSTAMP:20210404T203357
CREATED:20110809T130000Z
LAST-MODIFIED:20191201T102413Z
UID:334601-1312880400-1312887600@www.patriotguard.org
SUMMARY:Confirmed - SGT James K. Johnston
DESCRIPTION:This is a Confirmed ANC Mission Plan: \nSGT Johnston is to be buried on the hallowed grounds of Arlington National Cemetery on 9 AUG 2011 at approximately 1500 hours.\nPGR has been invited to attend the services\, and we will be there to stand tall silent and proud in honor of this American Hero\, his family\, friends and comrades at arms. \nTuesday\, August 9\, 2011 \nStage:       1330 hrs    Iwo Jima Memorial (Marine Corps War Memorial)\nBrief:       1345 hrs\nTransit:     1400 hrs    to ANC Admin Bldg\nHonors:      1500 hrs    Graveside ANC (time approx) \nRide Captain: Bruce “Robocop” Gentile (301-542-6707)\n**** ASSISTANCE WILL BE REQUIRED AS WE ARE STAGING AND EXECUTING TWO MISSIONS SIMULTANEOUSLY **** \nStaging Location: \nUnited States Marine Corps War Memorial (Iwo Jima)\nGeorge Washington Memorial Parkway\nArlington\, VA \nRide Captain: Bruce “Robocop” Gentile (301-542-6707) \nIron Horses preferred\, cages welcome as always.\nMounted large flags preferred for the Escort (furl upon ANC parking).\nMilitary mandated ID / gear NOT required for this mission.\nDress & hydrate accordingly – Check the weather: http://tinyurl.com/Arlington-Weather\nRemember we are here to honor the Hero and family\, friends\, and\ncomrades-in-arms\, and to stand tall\, silent and proud.  If you cannot\njoin us\, please set aside a moment of silence at the appointed hour\,\nto reflect on their sacrifice. \nMore ANC – PGR Info:\nhttp://tinyurl.com/ANC-Speical-Considerations\nand  http://tinyurl.com/ANC-Info-Maps-Etc \n_______________________________\nStacy “Conundrum” Conkin\nPatriot Guard Riders # 55396  (joined 9/11/06)\nAssistant State Captain\, Arlington National Cemetery\nRide Captain – VA District 9
URL:https://www.patriotguard.org/mission/confirmed-sgt-james-k-johnston/
END:VEVENT
END:VCALENDAR