BEGIN:VCALENDAR
VERSION:2.0
PRODID:-//Patriot Guard Riders - ECPv5.6.0//NONSGML v1.0//EN
CALSCALE:GREGORIAN
METHOD:PUBLISH
X-WR-CALNAME:Patriot Guard Riders
X-ORIGINAL-URL:https://www.patriotguard.org
X-WR-CALDESC:Events for Patriot Guard Riders
BEGIN:VTIMEZONE
TZID:America/New_York
BEGIN:DAYLIGHT
TZOFFSETFROM:-0500
TZOFFSETTO:-0400
TZNAME:EDT
DTSTART:20160313T070000
END:DAYLIGHT
BEGIN:STANDARD
TZOFFSETFROM:-0400
TZOFFSETTO:-0500
TZNAME:EST
DTSTART:20161106T060000
END:STANDARD
END:VTIMEZONE
BEGIN:VEVENT
DTSTART;TZID=America/New_York:20160708T090000
DTEND;TZID=America/New_York:20160708T110000
DTSTAMP:20210512T144751
CREATED:20160708T130000Z
LAST-MODIFIED:20191201T030034Z
UID:303760-1467968400-1467975600@www.patriotguard.org
SUMMARY:CONFIRMED MISSION - Shawn Christian Unruh - WWII USMC
DESCRIPTION:Shawn Christian Unruh\n\n \n\nWWII USMC\n\n \n\nSanta Fe\, NM\, 7-8-2016\n\n\n \n \nThe Patriot Guard Riders Of  New Mexico have been invited by the family of a fallen veteran to participate and show honor for a fallen brother. Shawn Christian Unruh\, 40\,his dream was to serve his country and accomplished this by joining the United States Marine Corps in 1993 upon graduation of High School. \n\n\n\nMore at:[FONT=Times New Roman\, serif]http://www.legacy.com/obituaries/abqjournal/obituary.aspx?pid=180027347[/FONT]\n[FONT=Times New Roman\, serif]\n[/FONT]\n PRIMARY STAGING INFO -7-6-2016\n\n Location:\n\nSanta Fe National Cemetery\n501 N. Guadalupe St. \nSanta Fe\, NM \n\n \nStaging Time:\n2:15 PM\n \n\nBriefing:\n2:25 PM\n \n\nFlagline:   for 3:00 PM Services\n \n  \nRCIC:  Dave “Feathers” James  feathers56@msn.com   [URL=”tel:505-994-1060″]505-[/URL][URL=”callto:+1629-2951″]629-2951[/URL] \n\nARCIC:  Alfredo Gomez  ASC – Gomez6801@gmail.com  [URL=”tel:505-573-6801″]505-573-6801[/URL]\n \n \nFlags will be provided.\nLarge bike flags will NOT be needed.\n \n\nWeather: at times of service\n\n90˚ sunny in Santa Fe
URL:https://www.patriotguard.org/mission/confirmed-mission-shawn-christian-unruh-wwii-usmc/
END:VEVENT
END:VCALENDAR