BEGIN:VCALENDAR
VERSION:2.0
PRODID:-//Patriot Guard Riders - ECPv5.6.0//NONSGML v1.0//EN
CALSCALE:GREGORIAN
METHOD:PUBLISH
X-WR-CALNAME:Patriot Guard Riders
X-ORIGINAL-URL:https://www.patriotguard.org
X-WR-CALDESC:Events for Patriot Guard Riders
BEGIN:VTIMEZONE
TZID:America/New_York
BEGIN:DAYLIGHT
TZOFFSETFROM:-0500
TZOFFSETTO:-0400
TZNAME:EDT
DTSTART:20080309T070000
END:DAYLIGHT
BEGIN:STANDARD
TZOFFSETFROM:-0400
TZOFFSETTO:-0500
TZNAME:EST
DTSTART:20081102T060000
END:STANDARD
END:VTIMEZONE
BEGIN:VEVENT
DTSTART;TZID=America/New_York:20080520T090000
DTEND;TZID=America/New_York:20080520T110000
DTSTAMP:20210513T213420
CREATED:20080520T130000Z
LAST-MODIFIED:20191201T114036Z
UID:381688-1211274000-1211281200@www.patriotguard.org
SUMMARY:Condolences Only - Michael Vinay Bhatia\, Contractor
DESCRIPTION:Updated 12 May 08 at 1100 PST by wags \nWe contacted Michael’s family today and although they appreciate our offer to attend his services they want to keep everything as simple and private as possible; they thank all for our condolences.  We will not be attending his funeral on Friday. \nJim Boland \nState Captain \nMassachusetts PGR \n******************************************************************************* \nMichael Vinay Bhatia\, Contractor\, Medway\, MA \n \nMichael Vinay Bhatia\, originally from Medway and a 1999 Brown University graduate\, was killed along with two soldiers when their Humvee was struck by a bomb just north of the Afghani city of Khost\, near the Pakistan border. Two other soldiers were badly wounded.  Bhatia was hired by defense contractor BEA Systems of Rockville\, Md.\, in September as a social scientist assigned to the U.S. Army’s human terrain system program.  The program is designed to help Army personnel better understand the socio-economic characteristics of the areas in which troops are deployed. \nWe do not have any more information than what is stated above; please check this thread for updates. \nJim Boland \nState Captain \nMassachusetts PGR
URL:https://www.patriotguard.org/mission/condolences-only-michael-vinay-bhatia-contractor/
LOCATION:James Aubrey Matlock
CATEGORIES:Archive
END:VEVENT
END:VCALENDAR