BEGIN:VCALENDAR
VERSION:2.0
PRODID:-//Patriot Guard Riders - ECPv5.6.0//NONSGML v1.0//EN
CALSCALE:GREGORIAN
METHOD:PUBLISH
X-WR-CALNAME:Patriot Guard Riders
X-ORIGINAL-URL:https://www.patriotguard.org
X-WR-CALDESC:Events for Patriot Guard Riders
BEGIN:VTIMEZONE
TZID:America/New_York
BEGIN:DAYLIGHT
TZOFFSETFROM:-0500
TZOFFSETTO:-0400
TZNAME:EDT
DTSTART:20140309T070000
END:DAYLIGHT
BEGIN:STANDARD
TZOFFSETFROM:-0400
TZOFFSETTO:-0500
TZNAME:EST
DTSTART:20141102T060000
END:STANDARD
END:VTIMEZONE
BEGIN:VEVENT
DTSTART;TZID=America/New_York:20140925T090000
DTEND;TZID=America/New_York:20140925T110000
DTSTAMP:20210513T041111
CREATED:20140925T130000Z
LAST-MODIFIED:20191201T131732Z
UID:399331-1411635600-1411642800@www.patriotguard.org
SUMMARY:COL Kenneth W. Teasdale\, USA (RET)
DESCRIPTION:[FONT=&quot]PATRIOT GUARD RIDERS[/FONT][FONT=&quot][/FONT]\n\n\n[FONT=&quot]YOUR PRESENCE HAS BEEN REQUESTED[/FONT][FONT=&quot][/FONT]\n\n\n[FONT=&quot]Kenneth W. Teasdale\, Colonel (R)[/FONT][FONT=&quot][/FONT]\n\n\n[FONT=&quot]United States Army[/FONT]\n\n\n[FONT=&quot]25 September 2014[/FONT]\n\n\n[FONT=&quot]Leavenworth\, Kansas[/FONT]\n\n\n[FONT=&quot] [/FONT]\n[FONT=&quot] [/FONT]\n[FONT=&quot]The  family of Kenneth W. Teasdale has requested the Patriot Guard Riders  honor their loved one by manning a flagline at his services and  escorting him to his final resting place at Leavenworth National  Cemetery (VA).[/FONT]\n[FONT=&quot]Colonel  Teasdale was a veteran of the Vietnam War and served in the Army for 27  years. He had extensive service in field artillery troop units\, staff  positions from Battalion to Department of the Army level.  He also spent  several years working in various military educational institutions.[/FONT] \n[FONT=&quot]During  his career\, Colonel Teasdale received many awards and decorations  including the Meritorious Service Award\, the Bronze Star\, and the Army  Commendation Medal with two Oak Leaf clusters. He also was inducted in  to the OCS Hall of Fame. [/FONT]\n[FONT=&quot] [/FONT]\n[FONT=&quot] [/FONT]\n[FONT=&quot]Staging: 25 Sep 14[/FONT]\n[FONT=&quot]1100 hrs. (11:00 am) – Stage at VA Protestant Chapel on VA grounds. The VA grounds address is 4101 S. 4th St. Leavenworth\, Kansas[/FONT]\n[FONT=&quot]11:30 hrs. (11:30 am) – Man Flag Line[/FONT]\n[FONT=&quot]12:35 hrs. (12:35 pm) – Ride Briefing[/FONT]\n[FONT=&quot]Apprx. 1300 hr. (1:00 pm) – Escort to Leavenworth National Cemetery[/FONT]\n[FONT=&quot] [/FONT]\n[FONT=&quot]Your Ride Captain for this mission is To Be Determined at this time. Please monitor this threadfor updates.[/FONT] \n[FONT=&quot] [/FONT]\n[FONT=&quot]Thank you all for what you do.[/FONT] \n\n[FONT=&quot] [/FONT]\n[FONT=&quot]Bruce (Medic) Holmes\nbholmes5@kc.rr.com\n[/FONT]
URL:https://www.patriotguard.org/mission/col-kenneth-w-teasdale-usa-ret/
CATEGORIES:Archive
END:VEVENT
END:VCALENDAR