BEGIN:VCALENDAR
VERSION:2.0
PRODID:-//Patriot Guard Riders - ECPv5.6.0//NONSGML v1.0//EN
CALSCALE:GREGORIAN
METHOD:PUBLISH
X-WR-CALNAME:Patriot Guard Riders
X-ORIGINAL-URL:https://www.patriotguard.org
X-WR-CALDESC:Events for Patriot Guard Riders
BEGIN:VTIMEZONE
TZID:America/New_York
BEGIN:DAYLIGHT
TZOFFSETFROM:-0500
TZOFFSETTO:-0400
TZNAME:EDT
DTSTART:20160313T070000
END:DAYLIGHT
BEGIN:STANDARD
TZOFFSETFROM:-0400
TZOFFSETTO:-0500
TZNAME:EST
DTSTART:20161106T060000
END:STANDARD
END:VTIMEZONE
BEGIN:VEVENT
DTSTART;TZID=America/New_York:20160721T090000
DTEND;TZID=America/New_York:20160721T110000
DTSTAMP:20210512T225758
CREATED:20160721T130000Z
LAST-MODIFIED:20191201T144153Z
UID:410450-1469091600-1469098800@www.patriotguard.org
SUMMARY:COL Howard C. Housel\, USA (RET) WW II / Hackettstown
DESCRIPTION:We have been asked to stand for and escort a career Army veteran\, Col. Howard C. “Hod” Housel who served for almost 39 years. \nPlease  take the time to read about his impressive career and all his  commendations in his obit  at: http://www.cochranfuneral.com/obit/obituaries.php?id=2669\n\nWe will take part with a flag line and escort on Thursday\, July  21\, 2016. \nMeet at the Cochran Funeral Home at 905 High Street\, Hackettstown\, NJ\, on Thursday\, July 21 at 9:00 am so we can have a flag line in place prior to the family’s arrival.\n\nAfter the service\, the escort is to South Easton Cemetery\, Easton\, PA. \nRC: TBD \nSC: Don Klein  donald.klein@verizon.net/908-334-7719
URL:https://www.patriotguard.org/mission/col-howard-c-housel-usa-ret-ww-ii-hackettstown/
CATEGORIES:Archive
END:VEVENT
END:VCALENDAR