BEGIN:VCALENDAR
VERSION:2.0
PRODID:-//Patriot Guard Riders - ECPv5.6.0//NONSGML v1.0//EN
CALSCALE:GREGORIAN
METHOD:PUBLISH
X-WR-CALNAME:Patriot Guard Riders
X-ORIGINAL-URL:https://www.patriotguard.org
X-WR-CALDESC:Events for Patriot Guard Riders
BEGIN:VTIMEZONE
TZID:America/New_York
BEGIN:DAYLIGHT
TZOFFSETFROM:-0500
TZOFFSETTO:-0400
TZNAME:EDT
DTSTART:20160313T070000
END:DAYLIGHT
BEGIN:STANDARD
TZOFFSETFROM:-0400
TZOFFSETTO:-0500
TZNAME:EST
DTSTART:20161106T060000
END:STANDARD
END:VTIMEZONE
BEGIN:VEVENT
DTSTART;TZID=America/New_York:20160612T090000
DTEND;TZID=America/New_York:20160612T110000
DTSTAMP:20210513T132252
CREATED:20160612T130000Z
LAST-MODIFIED:20191201T145229Z
UID:411412-1465722000-1465729200@www.patriotguard.org
SUMMARY:CMSgt William Hutcheson\, 98\, USAF(RET)
DESCRIPTION:Tennessee is mourning the loss of one of Her long time Heroes. \nCommand Master Sargent William Hutcheson\, 98\, a WWII Veteran of the United States Air Force passed yesterday. \nThe Patriot Guard Riders have been asked to Stand a Flag Line to Honor William\, and to escort him to his final resting place. \nIt will be our Great Honor to do so. \nVisitation will be at\nCentral Baptist Church\, Sunday 12 June 2016.\n1346 S Main (Exit 317)\nCrossville\, TN 38555 \nTime: 1300-1500 \nStaging: Directly at the Church at 1230 \nServices to follow\, then escort to Burial Site in Bledsoe County. \nRCIC:\nThonda Farmer\n931-248-1258\ntrfarmer58@live.com \nFlags will be provided\nPlease stay hydrated \nHigh of 89* \nPlease come and Honor Our Hero.
URL:https://www.patriotguard.org/mission/cmsgt-william-hutcheson-98-usafret/
END:VEVENT
END:VCALENDAR