BEGIN:VCALENDAR
VERSION:2.0
PRODID:-//Patriot Guard Riders - ECPv5.6.0//NONSGML v1.0//EN
CALSCALE:GREGORIAN
METHOD:PUBLISH
X-WR-CALNAME:Patriot Guard Riders
X-ORIGINAL-URL:https://www.patriotguard.org
X-WR-CALDESC:Events for Patriot Guard Riders
BEGIN:VTIMEZONE
TZID:America/New_York
BEGIN:DAYLIGHT
TZOFFSETFROM:-0500
TZOFFSETTO:-0400
TZNAME:EDT
DTSTART:20160313T070000
END:DAYLIGHT
BEGIN:STANDARD
TZOFFSETFROM:-0400
TZOFFSETTO:-0500
TZNAME:EST
DTSTART:20161106T060000
END:STANDARD
END:VTIMEZONE
BEGIN:VEVENT
DTSTART;TZID=America/New_York:20160804T090000
DTEND;TZID=America/New_York:20160804T110000
DTSTAMP:20210512T040141
CREATED:20160804T130000Z
LAST-MODIFIED:20191201T143901Z
UID:410182-1470301200-1470308400@www.patriotguard.org
SUMMARY:CMSgt Raymond Ware\, 81\, USAF(RET)
DESCRIPTION:HONOR MISSION\nCMSgt Raymond Ware\, 81\, US Air Force\, Retired\, Vietnam Veteran\, Killeen\, TX\n\n \nThe family of Chief Master Sergeant Raymond Ware has requested the presence and participation of the Patriot Guard Riders at the Funeral and Cemetery Services of their Loved One.\n \nFor those of you who don’t know Raymond is the Father of Rhonda from Killeen Power Sports. Raymond’s full obituary may be found here: http://obits.dignitymemorial.com/dignity-memorial/obituary.aspx?n=Raymond-Ware&lc=1795&pid=180834275&mid=7029358\n \nDate: Thu\, 4 Aug 16\n  \n\nFUNERAL SERVICE\n\n \nStaging Time: 1105\n \nStaging Location: Crawford-Bowers Funeral Home\, 1615 South Fort Hood St\, KILLEEN\, TX 76542 (http://tinyurl.com/ykp5q6o)\n \nBriefing: 1115\n \nFlag line Establishment:  1125 +/- Once the Funeral Service begins; we will strike the flag line and prepare to participate in the procession to the Central Texas State Veterans Cemetery.\n \nNote: Be at staging TOPPED OFF.\n \nRide Captain: Ron “PACMan” Decker; 254.526.8265\, 254.383.6281; krdecker@twc.com\n  \n\nCEMETERY SERVICE\n\n \nStaging Time: 1305\n \nStaging Location: The cul-de-sac between the Walk of Heroes and the Memorial Shelter at the Central Texas State Veterans Cemetery located off TX 195 just south of Killeen\, TX (http://tinyurl.com/CenTexVetsCeme)\n \nSetup & Briefing: Upon clearance and at the direction of the Ride Captain\, we will move to the shelter\, set up the flags\, be briefed and await arrival of the procession from Crawford-Bowers Funeral Home in Killeen\, TX.\n \nRide Captain: Mary “Marebear” Gregory; 254.458.2120; Mgregory2@hot.rr.com\n \nWX: Sunny and hot\, with a high near 100. South southwest wind 5 to 10 mph.\n \nNotes:\n \n1. Be at stagings ON TIME.\n \n2. Hydrate well prior\, bring water for yourself and a buddy and dress with consideration of the weather conditions.\n  \n\nPlease join us in honoring this Retired US Air Force Vietnam Veteran for his selfless service to our Great Nation.
URL:https://www.patriotguard.org/mission/cmsgt-raymond-ware-81-usafret/
CATEGORIES:Archive
END:VEVENT
END:VCALENDAR