BEGIN:VCALENDAR
VERSION:2.0
PRODID:-//Patriot Guard Riders - ECPv5.3.2.1//NONSGML v1.0//EN
CALSCALE:GREGORIAN
METHOD:PUBLISH
X-WR-CALNAME:Patriot Guard Riders
X-ORIGINAL-URL:https://www.patriotguard.org
X-WR-CALDESC:Events for Patriot Guard Riders
BEGIN:VTIMEZONE
TZID:America/New_York
BEGIN:DAYLIGHT
TZOFFSETFROM:-0500
TZOFFSETTO:-0400
TZNAME:EDT
DTSTART:20190310T070000
END:DAYLIGHT
BEGIN:STANDARD
TZOFFSETFROM:-0400
TZOFFSETTO:-0500
TZNAME:EST
DTSTART:20191103T060000
END:STANDARD
END:VTIMEZONE
BEGIN:VEVENT
DTSTART;VALUE=DATE:20190628
DTEND;VALUE=DATE:20190629
DTSTAMP:20210405T032238
CREATED:20190627T150128Z
LAST-MODIFIED:20190627T150128Z
UID:166042-1561680000-1561766399@www.patriotguard.org
SUMMARY:Clyde Raymond Phillips
DESCRIPTION:Honor Mission\nClyde Raymond Phillips\, Veteran\nUSN – Korea\, Vietnam\nMobile\, Alabama – 06-28-19\n\n\n\nABOUT THE MISSION: \nThe family of Clyde Raymond Phillips has invited the Patriot Guard Riders to stand for their loved one. Clyde Raymond Phillips served in the U.S. Navy during the Korean and Vietnam Wars. He received numerous awards and commendations including NDSM\, Vietnam Service Medal w/ 1 Bronze Star\, Republic of Vietnam Campaign Ribbon\, Armed Forces Expeditionary Medal (Korea)\, and an Honorable Discharge. Mr. Phillips stood many a hard day and night so that we might be safe and free. Now it is our turn to stand and honor him for his service and sacrifice. Ride safely!\n\n\nPRIMARY STAGING DETAILS: 06-28-19 \nStaging Time: 11:30 AM\n \nWalMart Parking Lot\n5245 Rangeline Service Rd. S.(Intersection of Rangeline Rd and Halls Mill Road)\nMobile\, Alabama 36619\n\n\nRide Captain: \nEd “Juju” Lessard\nchromedome43@hotmail.com\n(251) 978-6215\n\n\nSpecial Instructions: \nBriefing: 11:45 a.m.\nKSU: 12:00 p.m.\nFuneral Service: 12:00 p.m. – Mobile Memorial Gardens Chapel\, 6100 Three Notch Road\, Mobile\, AL.\nPGR Arrival: 12:15 p.m.\nFinal Salute: As he is placed in hearse.\nFlag Line: At Graveside.\nInterment: Mobile Memorial Gardens\, 6100 Three Notch Road\, Mobile\, AL.\nLEO – No.  Honor Guard – UNK\n\nFlags: Ed “Juju” Lessard\n\n\nFlags & Water:\nFlags will be provided\nIf you have large bike flags\, please bring them.\nWater WILL NOT be provided\, please bring your own.\n\n\n\nSubmitted By: Lloyd Pursley \nPosition: Alabama Ride Captain \n\nNote: You do not have to own/ride a motorcycle or be a veteran to join\, and membership is Free. The only requirement is RESPECT! To subscribe to receive mission notices\, log into the National Site and click on the Members tab at the top. Select the Subscribe to PGR Missions option.\n Print This Page
URL:https://www.patriotguard.org/mission/clyde-raymond-phillips/
CATEGORIES:Honor Mission
END:VEVENT
END:VCALENDAR