BEGIN:VCALENDAR
VERSION:2.0
PRODID:-//Patriot Guard Riders - ECPv5.6.0//NONSGML v1.0//EN
CALSCALE:GREGORIAN
METHOD:PUBLISH
X-WR-CALNAME:Patriot Guard Riders
X-ORIGINAL-URL:https://www.patriotguard.org
X-WR-CALDESC:Events for Patriot Guard Riders
BEGIN:VTIMEZONE
TZID:America/New_York
BEGIN:DAYLIGHT
TZOFFSETFROM:-0500
TZOFFSETTO:-0400
TZNAME:EDT
DTSTART:20160313T070000
END:DAYLIGHT
BEGIN:STANDARD
TZOFFSETFROM:-0400
TZOFFSETTO:-0500
TZNAME:EST
DTSTART:20161106T060000
END:STANDARD
END:VTIMEZONE
BEGIN:VEVENT
DTSTART;TZID=America/New_York:20160712T090000
DTEND;TZID=America/New_York:20160712T110000
DTSTAMP:20210512T121636
CREATED:20160712T130000Z
LAST-MODIFIED:20191201T144314Z
UID:410571-1468314000-1468321200@www.patriotguard.org
SUMMARY:Clyde Paul Ussery\, 95\, USN\, WWII / Daphne
DESCRIPTION:19 July 2016\nTuesday\nLt (jg) Clyde Paul Ussery\nUS Navy – WWII Veteran\nHonor Flight VI\nAlabama State Veterans Memorial Cemetery in Spanish Fort\, AL\n\n\n\nFellow Riders\, \nIt is with a heavy heart that I must inform you that Alabama and America has lost another true American hero.  The family of Lt. (jg) Clyde Paul Ussery has requested the Patriot Guard to stand in honor of him.  Mr. Ussery passed away at the age of 95 on July 12\, 2016. \nMr. Ussery served during World War II with the U.S. Navy and was awarded the American Campaign Medal\, World War II Victory Medal\, Good Conduct Medal and an Honorable Discharge.  It is our honor to stand for this true American Hero. \nVisitation:  10:00 – 11:00 a.m. – Ascension Lutheran Church\, 8888 County Rd 64\, Daphne\, AL\n(Just west of county road 13)\nService:      11:00 – 12:00 p.m. – Ascension Lutheran Church\, 8888 County Rd 64\, Daphne\, AL\n(Just west of county road 13)\nCommittal:  1:00 p.m. – Alabama State Veterans Memorial Cemetery – LEO:  YES. \nMobile and Baldwin County Staging:\n(South Baldwin County Riders may meet fellow riders at Ascension Lutheran Church)\nScenic Overlook at Spanish Fort (intersection of I-10 & US Hwy 98)\nTime:        0900 hrs.\nBriefing:   0915 hrs.\nKSU:         0930 hrs.\nRCIC:       Greg Selman\, SRC – (251) 490-9791\nFlags:        Lloyd Pursley\, DRC – (251) 422-0696\nHonor Guard:  Yes \nMr. Ussery stood many a hard day and night for us so that we might be safe and free.\nNow it’s our turn to stand for him.
URL:https://www.patriotguard.org/mission/clyde-paul-ussery-95-usn-wwii-daphne/
END:VEVENT
END:VCALENDAR