BEGIN:VCALENDAR
VERSION:2.0
PRODID:-//Patriot Guard Riders - ECPv5.6.0//NONSGML v1.0//EN
CALSCALE:GREGORIAN
METHOD:PUBLISH
X-WR-CALNAME:Patriot Guard Riders
X-ORIGINAL-URL:https://www.patriotguard.org
X-WR-CALDESC:Events for Patriot Guard Riders
BEGIN:VTIMEZONE
TZID:America/New_York
BEGIN:DAYLIGHT
TZOFFSETFROM:-0500
TZOFFSETTO:-0400
TZNAME:EDT
DTSTART:20160313T070000
END:DAYLIGHT
BEGIN:STANDARD
TZOFFSETFROM:-0400
TZOFFSETTO:-0500
TZNAME:EST
DTSTART:20161106T060000
END:STANDARD
END:VTIMEZONE
BEGIN:VEVENT
DTSTART;TZID=America/New_York:20160531T090000
DTEND;TZID=America/New_York:20160531T110000
DTSTAMP:20210513T143508
CREATED:20160531T130000Z
LAST-MODIFIED:20191201T145533Z
UID:411692-1464685200-1464692400@www.patriotguard.org
SUMMARY:Clyde Creasy\, 95\, USA
DESCRIPTION:The family of Clyde Creasy\, US Army  veteran \, has ask the Patriot Guard Riders to help Honor and show our Respect for their Loved one.\n\nWe will stand a flag line of honor for this WW II veteran \, another of the Greatest Generation . We will provide an escort to Jefferson Barracks National Cemetery at the conclusion of the Memorial service. \nMr . Creasy was 95 years old.  He is survived by 1 son and 2 daughters.  He at one time was an avid motorcyclist. \nStage at :10:45 AM\n                Apostolic Pentecostal Church\n                901 Barracksview Dr\n                St Louis \, MO\n\n Service : 12:00 PM \n Jefferson Barracks time slot : 1:30 PM \nBobby Breuer\n636 297 5363\nbobbybreuer@yahoo.com\n\nFlags Provided
URL:https://www.patriotguard.org/mission/clyde-creasy-95-usa/
CATEGORIES:Archive
END:VEVENT
END:VCALENDAR