BEGIN:VCALENDAR
VERSION:2.0
PRODID:-//Patriot Guard Riders - ECPv5.6.0//NONSGML v1.0//EN
CALSCALE:GREGORIAN
METHOD:PUBLISH
X-WR-CALNAME:Patriot Guard Riders
X-ORIGINAL-URL:https://www.patriotguard.org
X-WR-CALDESC:Events for Patriot Guard Riders
BEGIN:VTIMEZONE
TZID:America/New_York
BEGIN:DAYLIGHT
TZOFFSETFROM:-0500
TZOFFSETTO:-0400
TZNAME:EDT
DTSTART:20160313T070000
END:DAYLIGHT
BEGIN:STANDARD
TZOFFSETFROM:-0400
TZOFFSETTO:-0500
TZNAME:EST
DTSTART:20161106T060000
END:STANDARD
END:VTIMEZONE
BEGIN:VEVENT
DTSTART;TZID=America/New_York:20160627T090000
DTEND;TZID=America/New_York:20160627T110000
DTSTAMP:20210512T212812
CREATED:20160627T130000Z
LAST-MODIFIED:20191201T144827Z
UID:411048-1467018000-1467025200@www.patriotguard.org
SUMMARY:Clyde C. Forsgren\, USAAC
DESCRIPTION:We have been invited to attend the Funeral of Sgt Clyde C Forsgren\, Veteran\, US Army Air Corps  WWII   Motorcycle Scout.   Worked on B-17 & B-29 Bombers\n\nInterment 1300 (1 pm) 27 Jun at Veterans Memorial Cemetery\n                                                     2830 Riverside Parkway\n                                                     Grand Junction\, CO\n\nStage 12:15 pm at Shelter area\n\nRide Captain  Art Edwards (harleyroadk@yahoo.com)
URL:https://www.patriotguard.org/mission/clyde-c-forsgren-usaac/
CATEGORIES:Archive
END:VEVENT
END:VCALENDAR