BEGIN:VCALENDAR
VERSION:2.0
PRODID:-//Patriot Guard Riders - ECPv5.6.0//NONSGML v1.0//EN
CALSCALE:GREGORIAN
METHOD:PUBLISH
X-WR-CALNAME:Patriot Guard Riders
X-ORIGINAL-URL:https://www.patriotguard.org
X-WR-CALDESC:Events for Patriot Guard Riders
BEGIN:VTIMEZONE
TZID:America/New_York
BEGIN:DAYLIGHT
TZOFFSETFROM:-0500
TZOFFSETTO:-0400
TZNAME:EDT
DTSTART:20160313T070000
END:DAYLIGHT
BEGIN:STANDARD
TZOFFSETFROM:-0400
TZOFFSETTO:-0500
TZNAME:EST
DTSTART:20161106T060000
END:STANDARD
END:VTIMEZONE
BEGIN:VEVENT
DTSTART;TZID=America/New_York:20160609T090000
DTEND;TZID=America/New_York:20160609T110000
DTSTAMP:20210513T150315
CREATED:20160609T130000Z
LAST-MODIFIED:20191201T145323Z
UID:411496-1465462800-1465470000@www.patriotguard.org
SUMMARY:Clyde Arrington\, 88\, USA
DESCRIPTION:The Patriot Guard Riders have been invited by the family of Clyde Arrington\, 88\, US Army Korean War Veteran\, to participate in honoring his service to this Great Nation at his Funeral/Interment Services to be held on Thursday\, 09 JUN 16.\n\nMISSION:  Thursday\, 09 JUN 16\, 1100 hrs.\nRALLY POINT:  Tabernacle Baptist Church\, 2601 15th St.\, Moline\, IL  MAP\nRALLY TIME:  1000 hrs.\, PRB 1015 hrs.   Immediately establish our flag lines.  On completion of Funeral  Services\, we will escort to R.I. National Cemetery for Interment  Services. \nNOTE:  All Safety Equipment required (Helmet\, Boots\, Long Sleeve\, Full Gloves) \nRIDE CAPTAIN:\nEric Swanson\n563-676-7145\nqcapgr@gmail.com
URL:https://www.patriotguard.org/mission/clyde-arrington-88-usa/
CATEGORIES:Archive
END:VEVENT
END:VCALENDAR