BEGIN:VCALENDAR
VERSION:2.0
PRODID:-//Patriot Guard Riders - ECPv5.3.2.1//NONSGML v1.0//EN
CALSCALE:GREGORIAN
METHOD:PUBLISH
X-WR-CALNAME:Patriot Guard Riders
X-ORIGINAL-URL:https://www.patriotguard.org
X-WR-CALDESC:Events for Patriot Guard Riders
BEGIN:VTIMEZONE
TZID:America/New_York
BEGIN:DAYLIGHT
TZOFFSETFROM:-0500
TZOFFSETTO:-0400
TZNAME:EDT
DTSTART:20190310T070000
END:DAYLIGHT
BEGIN:STANDARD
TZOFFSETFROM:-0400
TZOFFSETTO:-0500
TZNAME:EST
DTSTART:20191103T060000
END:STANDARD
END:VTIMEZONE
BEGIN:VEVENT
DTSTART;VALUE=DATE:20190719
DTEND;VALUE=DATE:20190720
DTSTAMP:20210403T195716
CREATED:20190718T153909Z
LAST-MODIFIED:20190718T153909Z
UID:168013-1563494400-1563580799@www.patriotguard.org
SUMMARY:Clinton Wright
DESCRIPTION:Honor Mission\nClinton Wright\, Veteran\nUSA – Vietnam\nSaint Louis\, Missouri – 07-19-19\n\n\n\nABOUT THE MISSION: \nIt is a most distinct honor and a privilege for the Patriot Guard Riders\, at the family’s request\, to stand a flag-line for United States Army Veteran Clinton Wright\, 70\, and escort him to his final resting place at Jefferson Barracks National Cemetery with full Military Honors.  Veteran Wright served in the U.S. Army in Vietnam. Veteran Wright attained the rank of Private First Class (PFC) and was awarded a Purple Heart.  PFC Wright\, a grateful nation thanks you and is indebted to you for your honorable service.  Your sacrifices have granted us the freedoms we continue to enjoy to this very day.  Thank you and Godspeed.\n\n\nPRIMARY STAGING DETAILS: 07-19-19 \nStaging: 10:15 AM\n \nRestoration Temple Church of God\n2002 Chambers Rd (I-270\, exit 30 New Halls Ferry Road/Halls Ferry Road south\, Chambers Road west/right. On the south side of Chambers Road).\nSaint Louis\, Missouri 63136\n\n\nRide Captain: \nDan ‘Lt. Dan’ Doerer\n(314) 576-5856\nj_d_doerer@att.net\n\nFlags & Support: Danny ‘Wolfman’ Reinbold\n\n\nSpecial Instructions: \nStage: 10:15 AM\, Ride Meeting\, flag-line\, R.E.D. Shirt Friday (Remember Everyone Deployed) Please arrive quietly as visitation will be underway.\nService:  11:00 AM\nEstimated time of escort to JBNC (25 miles) 12:00 PM\nCommittal Service with Military Honors and interment: 1:30 PM\nThe current NWS forecast during this Mission is 92º – 98º\, with a 3% chance of rain.  Travel and dress accordingly.  Please HYDRATE!.  Any type of vehicle is welcome.\n\n\nFlags & Water:\nFlags will be provided\nIf you have large bike flags\, please bring them.\nWater will be provided.\n\nSubmitted By: Dan Doerer \nPosition: Missouri Ride Captain \n\nNote: You do not have to own/ride a motorcycle or be a veteran to join\, and membership is Free. The only requirement is RESPECT! To subscribe to receive mission notices\, log into the National Site and click on the Members tab at the top. Select the Subscribe to PGR Missions option.\n Print This Page
URL:https://www.patriotguard.org/mission/clinton-wright/
CATEGORIES:Honor Mission
END:VEVENT
END:VCALENDAR