BEGIN:VCALENDAR
VERSION:2.0
PRODID:-//Patriot Guard Riders - ECPv5.3.2.1//NONSGML v1.0//EN
CALSCALE:GREGORIAN
METHOD:PUBLISH
X-WR-CALNAME:Patriot Guard Riders
X-ORIGINAL-URL:https://www.patriotguard.org
X-WR-CALDESC:Events for Patriot Guard Riders
BEGIN:VTIMEZONE
TZID:America/New_York
BEGIN:DAYLIGHT
TZOFFSETFROM:-0500
TZOFFSETTO:-0400
TZNAME:EDT
DTSTART:20190310T070000
END:DAYLIGHT
BEGIN:STANDARD
TZOFFSETFROM:-0400
TZOFFSETTO:-0500
TZNAME:EST
DTSTART:20191103T060000
END:STANDARD
END:VTIMEZONE
BEGIN:VEVENT
DTSTART;VALUE=DATE:20190808
DTEND;VALUE=DATE:20190809
DTSTAMP:20210402T145421
CREATED:20190808T011452Z
LAST-MODIFIED:20190808T011452Z
UID:169914-1565222400-1565308799@www.patriotguard.org
SUMMARY:Clinton Eugene King
DESCRIPTION:Honor Mission\nClinton Eugene King\, Retired\, Veteran\nUSAF – Korea\, Vietnam\nAbilene\, Texas – 08-08-19\n\n\n \n\nABOUT THE MISSION: \nClinton King joined the United States Air Force in September of 1951. He served twenty years and retired on October 1\,1971. He received the following medals while serving: Korean Service Ribbon with 2 Stars\, United Nations Service Ribbon with 1 Star\, Small Arms Expert Marksmanship Ribbon\, Air Force Longevity Service Ribbon with 4 Bronze Oak Leaf Clusters\, Good Conduct Ribbon with 3 Bronze Loops\, Air Force Good Conduct Ribbon with 2 Bronze Oak Leaf Cluster\, Vietnamese Service Ribbon and Republic Vietnamese Campaign Medal.\n\n\nPRIMARY STAGING DETAILS: 08-08-19 \nStaging Time: 9:15 am\n \nAbilene Funeral Home\n334 12th St\nAbilene\, Texas 79603\nMap\n\n\nRide Captain: \nRoger Brown\ncaptains@westtexaspgr.org\n\n\nSpecial Instructions: \nFlag Line at 9:30 am\nAfter the service starts bikes will wait at the funeral home for procession to cemetery. Others proceed to the cemetery for stage 2.Mostly Sunny\, 85 with SSW winds at 15 gusts to 21 HYDRATE starting Wednesday.\n\nFlags & Water:\nFlags will be provided\nIf you have large bike flags\, please bring them.\nWater will be provided.\n\nSTAGING #2 DETAILS: 08-08-19 \nStaging Time: 10:45 am\n \nTexas State Veterans Cemetery at Abilene (TSVC)\n7457 W Lake Rd\nAbilene\, Texas 79601\nMap\n\n\nRide Captain: \nRoger Brown\ncaptains@westtexaspgr.org\n\n\nSpecial Instructions: \nFlag line starts upon arrival of the procession.Riders will arrive with the procession.Others stage at the TSVC committal shelter or at the visitors center if the shelter is occupied by another service Mostly Sunny\, 92 with SSW winds at 15 gusts to 21\n\nFlags & Water:\nFlags will be provided\nIf you have large bike flags\, please bring them.\nWater will be provided.\n\n\n\nSubmitted By: Bert Simpson \nPosition: Texas Ride Captain \n\nNote: You do not have to own/ride a motorcycle or be a veteran to join\, and membership is Free. The only requirement is RESPECT! To subscribe to receive mission notices\, log into the National Site and click on the Members tab at the top. Select the Subscribe to PGR Missions option.\n Print This Page
URL:https://www.patriotguard.org/mission/clinton-eugene-king/
CATEGORIES:Honor Mission
END:VEVENT
END:VCALENDAR