BEGIN:VCALENDAR
VERSION:2.0
PRODID:-//Patriot Guard Riders - ECPv5.3.2.1//NONSGML v1.0//EN
CALSCALE:GREGORIAN
METHOD:PUBLISH
X-WR-CALNAME:Patriot Guard Riders
X-ORIGINAL-URL:https://www.patriotguard.org
X-WR-CALDESC:Events for Patriot Guard Riders
BEGIN:VTIMEZONE
TZID:America/New_York
BEGIN:DAYLIGHT
TZOFFSETFROM:-0500
TZOFFSETTO:-0400
TZNAME:EDT
DTSTART:20190310T070000
END:DAYLIGHT
BEGIN:STANDARD
TZOFFSETFROM:-0400
TZOFFSETTO:-0500
TZNAME:EST
DTSTART:20191103T060000
END:STANDARD
END:VTIMEZONE
BEGIN:VEVENT
DTSTART;VALUE=DATE:20190814
DTEND;VALUE=DATE:20190815
DTSTAMP:20210402T193706
CREATED:20190813T092819Z
LAST-MODIFIED:20191127T163044Z
UID:170695-1565740800-1565827199@www.patriotguard.org
SUMMARY:Clifton ( Cliff ) Leslie Bowers
DESCRIPTION:Honor Mission\nClifton (Cliff) Leslie Bowers\, Veteran\nUSA – Vietnam\nBethel Heights\, Arkansas – 08-14-19\n\n\n\nABOUT THE MISSION: \nClifton (Cliff) Leslie Bowers\, age 71\, of Springdale\, Arkansas\, went to be with his Lord and Savior on August 10\, 2019\, in Springdale. He was born January 21\, 1948 in Springdale\, Arkansas the son of the late Lloyd and Burdena Harviston Bowers. He was a member of the Gospel Tabernacle Church\, the VFW\, the Northwest Arkansas Hill County Jammers and the Arkansas State Old Time Fiddlers Association. He enjoyed woodworking\, fishing\, and playing music and loved his family and his church. He is preceded by his parents\, a daughter and a sister. Mr. Bowers is survived by his wife\, Linda Bowers of the home\, three sons\,  four daughters\, thirty five grandchildren and twenty seven great grandchildren.\n\n\nPRIMARY STAGING DETAILS: 08-14-19 \nStaging Time: 10:00 am\n \nGospel Tabernacle Church\n1003 E. Apple Blossom Road\nBethel Heights\, Arkansas 72764\n\n\nRide Captain: \nCliff ( OlMan ) Olson\n479-301-4361\ncolson67@hotmail.com\n\n\nSpecial Instructions: \n10:00 am: Staging\n10:15 am: Briefing\n10:30 am: Flag line till start of service\n11:15 am: Escort Briefing\nFuneral service will be at the Gospel Tabernacle Church\, 1003 E. Apple Blossom Road\, Bethel Heights\, Arkansas 72764 under the direction of Memorial Funeral Home\, 3926 Willowood Avenue\, Springdale\, Arkansas 72762.\nBurial with Military Honors will follow in Wilson Cemetery.\nVisitation will start at 10:00 am until service time at the church.\nAssisted by: RC Greg ( Weebles ) Weeks\, 479-466-5586\, weeblespgr@att.net\n\n\nFlags & Water:\nFlags will be provided\nIf you have large bike flags\, please bring them.\nWater will be provided.\n\nSTAGING #2 DETAILS: 08-14-19 \nStaging Time: 11:15 am\n \nGospel Tabernacle Church\n1003 E. Apple Blossom Road\nBethel Heights\, Arkansas 72764\n\n\nRide Captain: \n Cliff ( OlMan ) Olson\n479-301-4361\ncolson67@hotmail.com\n\n\nSpecial Instructions: \nEscort Briefing 11:15 am:\nEscort to Wilson CemeteryFlag Line till end of service\nAssisted By: Greg ( Weebles ) Weeks\, 479-466-8586\, weeblespgr@att.net\n\n\nFlags & Water:\nFlags will be provided\nIf you have large bike flags\, please bring them.\nWater will be provided.\n\n\n\nSubmitted By: Clifford Olson \nPosition: Arkansas Ride Captain \n\nNote: You do not have to own/ride a motorcycle or be a veteran to join\, and membership is Free. The only requirement is RESPECT! To subscribe to receive mission notices\, log into the National Site and click on the Members tab at the top. Select the Subscribe to PGR Missions option.\n Print This Page
URL:https://www.patriotguard.org/mission/clifton-cliff-leslie-bowers/
CATEGORIES:Honor Mission
END:VEVENT
END:VCALENDAR