BEGIN:VCALENDAR
VERSION:2.0
PRODID:-//Patriot Guard Riders - ECPv5.6.0//NONSGML v1.0//EN
CALSCALE:GREGORIAN
METHOD:PUBLISH
X-WR-CALNAME:Patriot Guard Riders
X-ORIGINAL-URL:https://www.patriotguard.org
X-WR-CALDESC:Events for Patriot Guard Riders
BEGIN:VTIMEZONE
TZID:America/New_York
BEGIN:DAYLIGHT
TZOFFSETFROM:-0500
TZOFFSETTO:-0400
TZNAME:EDT
DTSTART:20160313T070000
END:DAYLIGHT
BEGIN:STANDARD
TZOFFSETFROM:-0400
TZOFFSETTO:-0500
TZNAME:EST
DTSTART:20161106T060000
END:STANDARD
END:VTIMEZONE
BEGIN:VEVENT
DTSTART;TZID=America/New_York:20160602T090000
DTEND;TZID=America/New_York:20160602T110000
DTSTAMP:20210513T173455
CREATED:20160602T130000Z
LAST-MODIFIED:20191201T145529Z
UID:411685-1464858000-1464865200@www.patriotguard.org
SUMMARY:Clifford Norman\, 89\, USA
DESCRIPTION:The family of Clifford “Cliff” Norman has  requested the Patriot Guard Riders to Honor their loved one for his  service to this Great Nation. Cliff was 89 years of age\, he served  with  the United States Army during WWII.\n\nVisitation:\nThursday\, June 02\, 2016\nParker- Reddy Funeral Home\n604 E. Main Street\nWest Frankfort\, IL \nTime:        10:00 am to  1:00 pm \nFuneral:    1:00 pm \nStaging:    9:30 am \nEscort:\nWe will escort Cliff to Tower Heights  Cemetery in West Frankfort with military graveside rites by the Orient  and Zeigler American Legions\, West Frankfort VFW and by the Illinois  National Guard Honors Detail. \nRide Captain: \nChuck Taitt – 618-315-0069
URL:https://www.patriotguard.org/mission/clifford-norman-89-usa/
CATEGORIES:Archive
END:VEVENT
END:VCALENDAR