BEGIN:VCALENDAR
VERSION:2.0
PRODID:-//Patriot Guard Riders - ECPv5.6.0//NONSGML v1.0//EN
CALSCALE:GREGORIAN
METHOD:PUBLISH
X-WR-CALNAME:Patriot Guard Riders
X-ORIGINAL-URL:https://www.patriotguard.org
X-WR-CALDESC:Events for Patriot Guard Riders
BEGIN:VTIMEZONE
TZID:America/New_York
BEGIN:DAYLIGHT
TZOFFSETFROM:-0500
TZOFFSETTO:-0400
TZNAME:EDT
DTSTART:20140309T070000
END:DAYLIGHT
BEGIN:STANDARD
TZOFFSETFROM:-0400
TZOFFSETTO:-0500
TZNAME:EST
DTSTART:20141102T060000
END:STANDARD
END:VTIMEZONE
BEGIN:VEVENT
DTSTART;TZID=America/New_York:20140802T090000
DTEND;TZID=America/New_York:20140802T110000
DTSTAMP:20210513T214242
CREATED:20140802T130000Z
LAST-MODIFIED:20191201T132340Z
UID:400411-1406970000-1406977200@www.patriotguard.org
SUMMARY:Clifford M. Stout\, USA
DESCRIPTION:Clifford M. Stout\n\n\nUnited States Army\n\n\nDATE: Saturday\, 2 August\, 2014\n\n\nLOCATION: Minneapolis\, KS\n\n\nOur hero Clifford M. Stout served his country via the United States Army  and was wounded in Korea losing most of his right leg. Clifford’s family has  asked the Patriot Guard Riders to join them in laying Clifford to rest as his  mission with us has come to an end. We will man a flag line at the Funeral Home  then escort Clifford and his family to Delphos afterward. (About a 15 minute  ride.) \nStaging: \n1000 hrs.(10:00 am) Stage at Wilson Family Funeral Home (405 Argyle Ave. –  Minneapolis\, KS) \n1015 hrs.(10:15 am) Briefing \nTim (Fess) Parker\nState Captain\n620-260-7734\nfess.pgr@gmail.com
URL:https://www.patriotguard.org/mission/clifford-m-stout-usa/
CATEGORIES:Archive
END:VEVENT
END:VCALENDAR