BEGIN:VCALENDAR
VERSION:2.0
PRODID:-//Patriot Guard Riders - ECPv5.3.2.1//NONSGML v1.0//EN
CALSCALE:GREGORIAN
METHOD:PUBLISH
X-WR-CALNAME:Patriot Guard Riders
X-ORIGINAL-URL:https://www.patriotguard.org
X-WR-CALDESC:Events for Patriot Guard Riders
BEGIN:VTIMEZONE
TZID:America/New_York
BEGIN:DAYLIGHT
TZOFFSETFROM:-0500
TZOFFSETTO:-0400
TZNAME:EDT
DTSTART:20160313T070000
END:DAYLIGHT
BEGIN:STANDARD
TZOFFSETFROM:-0400
TZOFFSETTO:-0500
TZNAME:EST
DTSTART:20161106T060000
END:STANDARD
END:VTIMEZONE
BEGIN:VEVENT
DTSTART;TZID=America/New_York:20160604T090000
DTEND;TZID=America/New_York:20160604T110000
DTSTAMP:20210403T083445
CREATED:20160604T130000Z
LAST-MODIFIED:20191201T145510Z
UID:411655-1465030800-1465038000@www.patriotguard.org
SUMMARY:Clifford L. Pierson\, USA
DESCRIPTION:Patriot Guard and Associates\, \nSadly\, we are called to stand a Flag Line for the interment of Clifford L. Pierson\, Technician Fifth Grade\, US Army\, who served from 1943 to 1946\, with the 4220th Quartermaster Service Company as a Cook. He was awarded the Asiatic-Pacific Theater Campaign Ribbon\, American Theater Campaign Ribbon\, Good Conduct Medal and the World War II Victory Medal. \nAssistant State Captain Jack Casey will be RCIC and Flags will be on site. \nSTAGE: 0800 hrs (8:00 am)\, 4 June 2016 \nHillside Cemetery West\n29 Hillside Road\nCromwell\, CT 06416 \nThis is Graveside Interment Only. \nGod Bless America\, Our Troops and First Responders. \nRegards\, \nMAC MCARTHUR\nSTATE CAPTAIN\nhaddamac@gmail.com\n860-682-7625
URL:https://www.patriotguard.org/mission/clifford-l-pierson-usa/
CATEGORIES:Archive
END:VEVENT
END:VCALENDAR