BEGIN:VCALENDAR
VERSION:2.0
PRODID:-//Patriot Guard Riders - ECPv5.6.0//NONSGML v1.0//EN
CALSCALE:GREGORIAN
METHOD:PUBLISH
X-WR-CALNAME:Patriot Guard Riders
X-ORIGINAL-URL:https://www.patriotguard.org
X-WR-CALDESC:Events for Patriot Guard Riders
BEGIN:VTIMEZONE
TZID:America/New_York
BEGIN:DAYLIGHT
TZOFFSETFROM:-0500
TZOFFSETTO:-0400
TZNAME:EDT
DTSTART:20160313T070000
END:DAYLIGHT
BEGIN:STANDARD
TZOFFSETFROM:-0400
TZOFFSETTO:-0500
TZNAME:EST
DTSTART:20161106T060000
END:STANDARD
END:VTIMEZONE
BEGIN:VEVENT
DTSTART;TZID=America/New_York:20160711T090000
DTEND;TZID=America/New_York:20160711T110000
DTSTAMP:20210512T133832
CREATED:20160711T130000Z
LAST-MODIFIED:20191201T144447Z
UID:410712-1468227600-1468234800@www.patriotguard.org
SUMMARY:Clifford Burnett
DESCRIPTION:The family of Clifford Burnett has invited the Patriot Guard to stand a flag line prior to his funeral service and to provide and honor escort to Jefferson Barracks National Cemetery following his service. \nMr. Burnett served in the Navy from 1976 to 1980 and 3 years and 3 months of that was on the USS Semmes as a Boiler Technician and at the time of his discharge was a Petty Officer 3rd Class. \nStage: Monday\, July 11\, 2016 8:45 AM\nZiegenhein South County Chapel\n4830 Lemay Ferry Rd.\nSt. Louis\, MO 63129 \nService is at 9:45 AM with a 11:00 AM slot at Jefferson Barracks. \nRC/Flags\nDenny Dutchman Eads\n314-277-2821
URL:https://www.patriotguard.org/mission/clifford-burnett/
CATEGORIES:Archive
END:VEVENT
END:VCALENDAR