BEGIN:VCALENDAR
VERSION:2.0
PRODID:-//Patriot Guard Riders - ECPv5.6.0//NONSGML v1.0//EN
CALSCALE:GREGORIAN
METHOD:PUBLISH
X-WR-CALNAME:Patriot Guard Riders
X-ORIGINAL-URL:https://www.patriotguard.org
X-WR-CALDESC:Events for Patriot Guard Riders
BEGIN:VTIMEZONE
TZID:America/New_York
BEGIN:DAYLIGHT
TZOFFSETFROM:-0500
TZOFFSETTO:-0400
TZNAME:EDT
DTSTART:20160313T070000
END:DAYLIGHT
BEGIN:STANDARD
TZOFFSETFROM:-0400
TZOFFSETTO:-0500
TZNAME:EST
DTSTART:20161106T060000
END:STANDARD
END:VTIMEZONE
BEGIN:VEVENT
DTSTART;TZID=America/New_York:20160708T090000
DTEND;TZID=America/New_York:20160708T110000
DTSTAMP:20210513T001218
CREATED:20160708T130000Z
LAST-MODIFIED:20191201T144505Z
UID:410741-1467968400-1467975600@www.patriotguard.org
SUMMARY:Clifford Bumgardner
DESCRIPTION:updated 07 JUL 16@2020EST ArmySSG \nThe Family of Clifford ‘Cliff’ Bumgardner has requested the Patriot Guard Riders to stand in honor of their loved one. \nHe served his country in the U.S. Army from 1972 to 1992. \nFuneral services will be 11am (1100hrs) Friday\, July 8\, 2016 at the Scrivner-Morrow Funeral Home in Stover. \nInterment\, with full military honors\, will be in the Stover Cemetery. \nThe family will receive friends from 5pm (1700hrs)  to 8pm (2000hrs)  Thursday\, July 7\, 2016 at the Scrivner-Morrow Funeral Home 204 W. 3rd St.\nStover\, Missouri \nStage for Funeral at 10am (1000hrs) at the funeral home. \nRide Captain:\nMike Closser\n660-619-6834 \nReed Hickam\nSr Ride Captain\n573-489-2158
URL:https://www.patriotguard.org/mission/clifford-bumgardner/
CATEGORIES:Archive
END:VEVENT
END:VCALENDAR