BEGIN:VCALENDAR
VERSION:2.0
PRODID:-//Patriot Guard Riders - ECPv5.3.2.1//NONSGML v1.0//EN
CALSCALE:GREGORIAN
METHOD:PUBLISH
X-WR-CALNAME:Patriot Guard Riders
X-ORIGINAL-URL:https://www.patriotguard.org
X-WR-CALDESC:Events for Patriot Guard Riders
BEGIN:VTIMEZONE
TZID:America/New_York
BEGIN:DAYLIGHT
TZOFFSETFROM:-0500
TZOFFSETTO:-0400
TZNAME:EDT
DTSTART:20170312T070000
END:DAYLIGHT
BEGIN:STANDARD
TZOFFSETFROM:-0400
TZOFFSETTO:-0500
TZNAME:EST
DTSTART:20171105T060000
END:STANDARD
END:VTIMEZONE
BEGIN:VEVENT
DTSTART;TZID=America/New_York:20170713T080000
DTEND;TZID=America/New_York:20170713T100000
DTSTAMP:20210403T091908
CREATED:20170713T120000Z
LAST-MODIFIED:20191201T034423Z
UID:342146-1499932800-1499940000@www.patriotguard.org
SUMMARY:Clayton Russell Richey\, Veteran\, USA
DESCRIPTION:Clayton Russell Richey\, Veteran \nUSA \nPortland\, Oregon – 13 Jul 2017\n\n\n[HR][/HR]\n\nABOUT THE MISSION: \nLadies and Gentlemen of the Patriot Guard Riders\, we have been invited to stand for Clayton Russell Richey\, age 63. Daniel served from 1980 to 1995 as a TOW and DRAGON missile systems repairman and was honorably discharged at the rank of Sgt (E-5). It is believed his discharge was a result of a degenerative brain disease called CADASIL\, which is what he passed from. Please join us as we pay our respects and honor his service to our nation. \nPRIMARY STAGING DETAILS: 13 Jul 2017\n \n\nPrimary Staging Time: 8:00 A.M.\n\n\nWillamette National Cemetery\n11800 SE Mt Scott Blvd\nPortland\, Oregon –\n\n\nRide Captain:\n\n\nTimothy “Big Tex” Benz\nbigtex.pgr@gmail.com\n\n\nSpecial Instructions:\n\n\nBriefing: 8:20 am\nKSU: 8:30 am\nFlagline Set: 8:15 am\nService Begins: 9:00 am\n\n\nFlags & Water:\n\n\nFlags Will NOT Be Provided\, Please Bring Your Own.\nIf you have large bike flags\, please bring them.\nWater WILL NOT be provided\, please bring your own.\n\n\nSubmitted By: John Hanan II\nPosition: State Captain \n\n[HR][/HR] \nNote:\nYou do not have to own/ride a motorcycle or be a Veteran to join and membership is Free. The only requirement is RESPECT!To join\, simply go to www.PatriotGuard.org and click on Register. Membership is Free. \nTo subscribe to receive mission notices\, log into the National Site and click on the Mission Tab at the top. Select Upcoming Missions by State. Scroll to the state(s) you would like to receive notices for and click on the green check mark. Detailed instructions are also located in the FAQs on the site by clicking on the Quick Links Tab and selecting FAQs.
URL:https://www.patriotguard.org/mission/clayton-russell-richey-veteran-usa/
END:VEVENT
END:VCALENDAR